BEGIN:VCALENDAR
VERSION:2.0
PRODID:-//Decatur Legacy Park - ECPv6.15.20//NONSGML v1.0//EN
CALSCALE:GREGORIAN
METHOD:PUBLISH
X-ORIGINAL-URL:https://decaturlegacypark.com
X-WR-CALDESC:Events for Decatur Legacy Park
REFRESH-INTERVAL;VALUE=DURATION:PT1H
X-Robots-Tag:noindex
X-PUBLISHED-TTL:PT1H
BEGIN:VTIMEZONE
TZID:America/New_York
BEGIN:DAYLIGHT
TZOFFSETFROM:-0500
TZOFFSETTO:-0400
TZNAME:EDT
DTSTART:20210314T070000
END:DAYLIGHT
BEGIN:STANDARD
TZOFFSETFROM:-0400
TZOFFSETTO:-0500
TZNAME:EST
DTSTART:20211107T060000
END:STANDARD
BEGIN:DAYLIGHT
TZOFFSETFROM:-0500
TZOFFSETTO:-0400
TZNAME:EDT
DTSTART:20220313T070000
END:DAYLIGHT
BEGIN:STANDARD
TZOFFSETFROM:-0400
TZOFFSETTO:-0500
TZNAME:EST
DTSTART:20221106T060000
END:STANDARD
BEGIN:DAYLIGHT
TZOFFSETFROM:-0500
TZOFFSETTO:-0400
TZNAME:EDT
DTSTART:20230312T070000
END:DAYLIGHT
BEGIN:STANDARD
TZOFFSETFROM:-0400
TZOFFSETTO:-0500
TZNAME:EST
DTSTART:20231105T060000
END:STANDARD
END:VTIMEZONE
BEGIN:VEVENT
DTSTART;TZID=America/New_York:20220216T163000
DTEND;TZID=America/New_York:20220216T180000
DTSTAMP:20260425T164211
CREATED:20220216T233300Z
LAST-MODIFIED:20220224T144956Z
UID:10000073-1645029000-1645034400@decaturlegacypark.com
SUMMARY:Yoga with Robin
DESCRIPTION:All Levels Vinyasa\n75 minute\, faster pace class with modifications for those who need them and additions for more advanced practitioners. All levels welcome. Limited props available; bring your own blocks\, strap and (if desired) blanket/eye pillows for savasana. Vaccinated and boosted only. Masks on until you’re on your mat. Restrooms available. \n$15 due at time of class\, cash or Venmo. A portion of class proceeds go to the care and maintenance of Legacy Park. \nThe Cochran Building at Legacy Park\n500 S. Columbia Drive\, Decatur\, GA 30030
URL:https://decaturlegacypark.com/event/yoga-with-robin/2022-02-16/
LOCATION:Legacy Park\, 500 S. Columbia Drive\, Decatur\, GA\, 30030\, United States
CATEGORIES:Health and Wellness
ATTACH;FMTTYPE=image/jpeg:https://decaturlegacypark.com/wp-content/uploads/2022/02/Robin-Header-1-1.jpg
ORGANIZER;CN="Yoga with Robin":MAILTO:robinedoyon@gmail.com
END:VEVENT
END:VCALENDAR