BEGIN:VCALENDAR
VERSION:2.0
PRODID:-//Decatur Legacy Park - ECPv6.15.20//NONSGML v1.0//EN
CALSCALE:GREGORIAN
METHOD:PUBLISH
X-ORIGINAL-URL:https://decaturlegacypark.com
X-WR-CALDESC:Events for Decatur Legacy Park
REFRESH-INTERVAL;VALUE=DURATION:PT1H
X-Robots-Tag:noindex
X-PUBLISHED-TTL:PT1H
BEGIN:VTIMEZONE
TZID:America/New_York
BEGIN:DAYLIGHT
TZOFFSETFROM:-0500
TZOFFSETTO:-0400
TZNAME:EDT
DTSTART:20240310T070000
END:DAYLIGHT
BEGIN:STANDARD
TZOFFSETFROM:-0400
TZOFFSETTO:-0500
TZNAME:EST
DTSTART:20241103T060000
END:STANDARD
BEGIN:DAYLIGHT
TZOFFSETFROM:-0500
TZOFFSETTO:-0400
TZNAME:EDT
DTSTART:20250309T070000
END:DAYLIGHT
BEGIN:STANDARD
TZOFFSETFROM:-0400
TZOFFSETTO:-0500
TZNAME:EST
DTSTART:20251102T060000
END:STANDARD
BEGIN:DAYLIGHT
TZOFFSETFROM:-0500
TZOFFSETTO:-0400
TZNAME:EDT
DTSTART:20260308T070000
END:DAYLIGHT
BEGIN:STANDARD
TZOFFSETFROM:-0400
TZOFFSETTO:-0500
TZNAME:EST
DTSTART:20261101T060000
END:STANDARD
END:VTIMEZONE
BEGIN:VEVENT
DTSTART;TZID=America/New_York:20250604T190000
DTEND;TZID=America/New_York:20250604T210000
DTSTAMP:20260419T101121
CREATED:20250604T202724Z
LAST-MODIFIED:20250604T202842Z
UID:10001398-1749063600-1749070800@decaturlegacypark.com
SUMMARY:Collage Class
DESCRIPTION:4 week course: June 4 – June 25\nWednesdays from 7:00-9:00pm\n$150 tuition\, not including materials \nExpand your skills\, knowledge and expertise in this collage making course. The class will explore materials\, media and styles of both collage and assemblage.  In the program\, students will create two collage pieces. \nThe class will cover: \n\nTools and materials\nSources for content\nUtilizing digital resources\nComposition\nStyle\, color and themes\nPresentation techniques\nCreating multi layered 3D collage works\n\nInstructor Tom Zarrilli is an Atlanta based artist who has exhibited his work throughout the USA. He is the former gallery director of the 378 Gallery in Atlanta. He creates art in a variety of media including painting\, photography\, ceramics\, conceptual work and collage. \nEnroll here.
URL:https://decaturlegacypark.com/event/collage-class/2025-06-04/
LOCATION:Legacy Park Hyatt Cottage\, 500 S Columbia Drive\, Decatur\, GA\, 30030\, United States
CATEGORIES:Classes and Demonstrations,Tenant Events
ATTACH;FMTTYPE=image/jpeg:https://decaturlegacypark.com/wp-content/uploads/2022/03/Family-Art-Day.jpg
END:VEVENT
BEGIN:VEVENT
DTSTART;TZID=America/New_York:20250603T190000
DTEND;TZID=America/New_York:20250603T203000
DTSTAMP:20260419T101121
CREATED:20250604T203244Z
LAST-MODIFIED:20250604T204135Z
UID:10001454-1748977200-1748982600@decaturlegacypark.com
SUMMARY:Watercolor Ephemera Class
DESCRIPTION:6 week course: 6/3\, 6/10\, 6/17\, 6/24\, (skip 7/1)\, 7/8\, 7/15\nTuesdays\, 7:00 – 8:30pm\n$160 tuition\, not including materials \nUnlock your creativity with this Watercolor Ephemera class\, where you’ll explore the exciting world of watercolor painting while developing your unique artistic style! During this course\, students will use found scraps of letters\, photos\, and tickets\, etc. as references and add-ons to collage into their watercolor project. \nWhether you’re a beginner or have some experience\, this class is perfect for anyone ready to experiment with color\, texture\, and technique.  This class is all about having fun while learning new methods of approaching the artform\, and it’s designed to help you grow as an artist at your own pace. Led by local artist and owner of Sycamore Place Gallery\, Sylvia Cross\, who has been a fixture in the Atlanta arts scene for 25 years (except for a brief departure to live in a treehouse in Costa Rica\, and in Verona\, Italy.)  Topics of instruction include: \n\n\nColor mixing\, mark making\, and learning to draw with a paintbrush\nValues and scale\, placement on the page\nGlazing techniques and painting to music\n\nEnroll here.
URL:https://decaturlegacypark.com/event/watercolor-ephemera-class/2025-06-03/
LOCATION:Legacy Park Hyatt Cottage\, 500 S Columbia Drive\, Decatur\, GA\, 30030\, United States
CATEGORIES:Classes and Demonstrations
ATTACH;FMTTYPE=image/jpeg:https://decaturlegacypark.com/wp-content/uploads/2022/03/Family-Art-Day.jpg
END:VEVENT
END:VCALENDAR