BEGIN:VCALENDAR
VERSION:2.0
PRODID:-//Decatur Legacy Park - ECPv6.15.20//NONSGML v1.0//EN
CALSCALE:GREGORIAN
METHOD:PUBLISH
X-ORIGINAL-URL:https://decaturlegacypark.com
X-WR-CALDESC:Events for Decatur Legacy Park
REFRESH-INTERVAL;VALUE=DURATION:PT1H
X-Robots-Tag:noindex
X-PUBLISHED-TTL:PT1H
BEGIN:VTIMEZONE
TZID:America/New_York
BEGIN:DAYLIGHT
TZOFFSETFROM:-0500
TZOFFSETTO:-0400
TZNAME:EDT
DTSTART:20210314T070000
END:DAYLIGHT
BEGIN:STANDARD
TZOFFSETFROM:-0400
TZOFFSETTO:-0500
TZNAME:EST
DTSTART:20211107T060000
END:STANDARD
BEGIN:DAYLIGHT
TZOFFSETFROM:-0500
TZOFFSETTO:-0400
TZNAME:EDT
DTSTART:20220313T070000
END:DAYLIGHT
BEGIN:STANDARD
TZOFFSETFROM:-0400
TZOFFSETTO:-0500
TZNAME:EST
DTSTART:20221106T060000
END:STANDARD
BEGIN:DAYLIGHT
TZOFFSETFROM:-0500
TZOFFSETTO:-0400
TZNAME:EDT
DTSTART:20230312T070000
END:DAYLIGHT
BEGIN:STANDARD
TZOFFSETFROM:-0400
TZOFFSETTO:-0500
TZNAME:EST
DTSTART:20231105T060000
END:STANDARD
BEGIN:DAYLIGHT
TZOFFSETFROM:-0500
TZOFFSETTO:-0400
TZNAME:EDT
DTSTART:20240310T070000
END:DAYLIGHT
BEGIN:STANDARD
TZOFFSETFROM:-0400
TZOFFSETTO:-0500
TZNAME:EST
DTSTART:20241103T060000
END:STANDARD
END:VTIMEZONE
BEGIN:VEVENT
DTSTART;TZID=America/New_York:20230415T140000
DTEND;TZID=America/New_York:20230415T153000
DTSTAMP:20260424T224516
CREATED:20230329T180534Z
LAST-MODIFIED:20230329T182732Z
UID:10000116-1681567200-1681572600@decaturlegacypark.com
SUMMARY:Painting in the Park
DESCRIPTION:Join L’Arche Atlanta for Painting in the Park! They’ll provide canvases and painting materials and their friend Nathalie will guide everyone through an afternoon of creative expression. \nRegistration is required for this event and space is limited\, so register by Friday\, April 7 to reserve your spot. \nFriends of all ages and abilities are welcome. See you there!
URL:https://decaturlegacypark.com/event/painting-in-the-park-2/
LOCATION:Legacy Park\, 500 S. Columbia Drive\, Decatur\, GA\, 30030\, United States
CATEGORIES:Community Events,Tenant Events
ATTACH;FMTTYPE=image/jpeg:https://decaturlegacypark.com/wp-content/uploads/2022/03/Family-Art-Day.jpg
END:VEVENT
BEGIN:VEVENT
DTSTART;TZID=America/New_York:20230211T170000
DTEND;TZID=America/New_York:20230211T193000
DTSTAMP:20260424T224516
CREATED:20230330T141333Z
LAST-MODIFIED:20230330T141333Z
UID:10000125-1676134800-1676143800@decaturlegacypark.com
SUMMARY:L'Arche Valentine's Day Dance
DESCRIPTION:Join us on Saturday\, February 11 from 5-7:30pm at Legacy Decatur (500 S Columbia Dr) for some pizza and our first Valentine’s Dance since 2020. Register by February 6!
URL:https://decaturlegacypark.com/event/larche-valentines-day-dance/
LOCATION:Legacy Park\, 500 S. Columbia Drive\, Decatur\, GA\, 30030\, United States
CATEGORIES:Community Events,Tenant Events
ATTACH;FMTTYPE=image/jpeg:https://decaturlegacypark.com/wp-content/uploads/2023/03/Valentines.jpg
END:VEVENT
BEGIN:VEVENT
DTSTART;TZID=America/New_York:20220326T160000
DTEND;TZID=America/New_York:20220326T180000
DTSTAMP:20260424T224516
CREATED:20220301T221632Z
LAST-MODIFIED:20220301T221745Z
UID:10000047-1648310400-1648317600@decaturlegacypark.com
SUMMARY:L'Arche Spring Picnic
DESCRIPTION:Join us on Saturday\, March 26 from 4-6pm for a spring picnic at Legacy Park! Bring a blanket and/or lawn chairs\, a picnic dinner (if you want)\, and we’ll provide the drinks and dessert! All are welcome for an afternoon of hanging out with some fun yard games\, like cornhole and frisbee. We’ll also celebrate all of our existing and new supporters\, the Luminaries! \nThis is a free event\, all are welcome! But RSVP on Facebook so we have an idea what to expect.
URL:https://decaturlegacypark.com/event/spring-picnic/
LOCATION:Legacy Park\, 500 S. Columbia Drive\, Decatur\, GA\, 30030\, United States
ATTACH;FMTTYPE=image/jpeg:https://decaturlegacypark.com/wp-content/uploads/2022/03/Picnic-01.jpeg
END:VEVENT
END:VCALENDAR