BEGIN:VCALENDAR
VERSION:2.0
PRODID:-//Decatur Legacy Park - ECPv6.15.20//NONSGML v1.0//EN
CALSCALE:GREGORIAN
METHOD:PUBLISH
X-WR-CALNAME:Decatur Legacy Park
X-ORIGINAL-URL:https://decaturlegacypark.com
X-WR-CALDESC:Events for Decatur Legacy Park
REFRESH-INTERVAL;VALUE=DURATION:PT1H
X-Robots-Tag:noindex
X-PUBLISHED-TTL:PT1H
BEGIN:VTIMEZONE
TZID:America/New_York
BEGIN:DAYLIGHT
TZOFFSETFROM:-0500
TZOFFSETTO:-0400
TZNAME:EDT
DTSTART:20210314T070000
END:DAYLIGHT
BEGIN:STANDARD
TZOFFSETFROM:-0400
TZOFFSETTO:-0500
TZNAME:EST
DTSTART:20211107T060000
END:STANDARD
BEGIN:DAYLIGHT
TZOFFSETFROM:-0500
TZOFFSETTO:-0400
TZNAME:EDT
DTSTART:20220313T070000
END:DAYLIGHT
BEGIN:STANDARD
TZOFFSETFROM:-0400
TZOFFSETTO:-0500
TZNAME:EST
DTSTART:20221106T060000
END:STANDARD
BEGIN:DAYLIGHT
TZOFFSETFROM:-0500
TZOFFSETTO:-0400
TZNAME:EDT
DTSTART:20230312T070000
END:DAYLIGHT
BEGIN:STANDARD
TZOFFSETFROM:-0400
TZOFFSETTO:-0500
TZNAME:EST
DTSTART:20231105T060000
END:STANDARD
BEGIN:DAYLIGHT
TZOFFSETFROM:-0500
TZOFFSETTO:-0400
TZNAME:EDT
DTSTART:20240310T070000
END:DAYLIGHT
BEGIN:STANDARD
TZOFFSETFROM:-0400
TZOFFSETTO:-0500
TZNAME:EST
DTSTART:20241103T060000
END:STANDARD
END:VTIMEZONE
BEGIN:VEVENT
DTSTART;TZID=America/New_York:20231101T173000
DTEND;TZID=America/New_York:20231101T193000
DTSTAMP:20260425T182109
CREATED:20231010T123419Z
LAST-MODIFIED:20231010T123419Z
UID:10000030-1698859800-1698867000@decaturlegacypark.com
SUMMARY:Dinners in the Garden
DESCRIPTION:Global Growers is hosting Dinners in the Garden\, three extraordinary evenings of culinary delights and community conversation. \nEach dinner is a tribute to the new and first generation American growers and leaders in our local community. You will enjoy a multicourse meal curated by the Chef’s Club of Refugee Women’s Network\, a specialty cocktail by Decatur’s Tortuga y Chango\, and additional beverages by Ansley Wine Merchants.
URL:https://decaturlegacypark.com/event/dinners-in-the-garden/2023-11-01/
LOCATION:Legacy Park\, 500 S. Columbia Drive\, Decatur\, GA\, 30030\, United States
CATEGORIES:Community Events,Tenant Events
ATTACH;FMTTYPE=image/jpeg:https://decaturlegacypark.com/wp-content/uploads/2022/09/Event-Master.jpg
END:VEVENT
BEGIN:VEVENT
DTSTART;TZID=America/New_York:20231018T173000
DTEND;TZID=America/New_York:20231018T193000
DTSTAMP:20260425T182109
CREATED:20231010T123419Z
LAST-MODIFIED:20231010T123419Z
UID:10000029-1697650200-1697657400@decaturlegacypark.com
SUMMARY:Dinners in the Garden
DESCRIPTION:Global Growers is hosting Dinners in the Garden\, three extraordinary evenings of culinary delights and community conversation. \nEach dinner is a tribute to the new and first generation American growers and leaders in our local community. You will enjoy a multicourse meal curated by the Chef’s Club of Refugee Women’s Network\, a specialty cocktail by Decatur’s Tortuga y Chango\, and additional beverages by Ansley Wine Merchants.
URL:https://decaturlegacypark.com/event/dinners-in-the-garden/2023-10-18/
LOCATION:Legacy Park\, 500 S. Columbia Drive\, Decatur\, GA\, 30030\, United States
CATEGORIES:Community Events,Tenant Events
ATTACH;FMTTYPE=image/jpeg:https://decaturlegacypark.com/wp-content/uploads/2022/09/Event-Master.jpg
END:VEVENT
BEGIN:VEVENT
DTSTART;TZID=America/New_York:20231004T173000
DTEND;TZID=America/New_York:20231004T193000
DTSTAMP:20260425T182109
CREATED:20231010T123419Z
LAST-MODIFIED:20231010T123419Z
UID:10000028-1696440600-1696447800@decaturlegacypark.com
SUMMARY:Dinners in the Garden
DESCRIPTION:Global Growers is hosting Dinners in the Garden\, three extraordinary evenings of culinary delights and community conversation. \nEach dinner is a tribute to the new and first generation American growers and leaders in our local community. You will enjoy a multicourse meal curated by the Chef’s Club of Refugee Women’s Network\, a specialty cocktail by Decatur’s Tortuga y Chango\, and additional beverages by Ansley Wine Merchants.
URL:https://decaturlegacypark.com/event/dinners-in-the-garden/2023-10-04/
LOCATION:Legacy Park\, 500 S. Columbia Drive\, Decatur\, GA\, 30030\, United States
CATEGORIES:Community Events,Tenant Events
ATTACH;FMTTYPE=image/jpeg:https://decaturlegacypark.com/wp-content/uploads/2022/09/Event-Master.jpg
END:VEVENT
BEGIN:VEVENT
DTSTART;TZID=America/New_York:20220521T150000
DTEND;TZID=America/New_York:20220521T170000
DTSTAMP:20260425T182109
CREATED:20220406T174211Z
LAST-MODIFIED:20220408T144042Z
UID:10000093-1653145200-1653152400@decaturlegacypark.com
SUMMARY:Culture in Ag: A Celebration
DESCRIPTION:Culture in Ag is a family-friendly celebration of the diverse cultures that make up Atlanta’s local food system. Join us Saturday\, May 21 from 3-5pm and experience diverse foods\, music and agricultural practices\, and explore our community garden for new American growers. \nGuests will enjoy:\n*A global street food sampler\n*2 drink tickets\n*Cooking demonstration\n*Hands-on gardening activities\n*A self-guided tour of the garden \nFunds raised through the event go toward equipping families with land and resources for growing fresh food. \nVolunteering opportunities are available. Learn more here.
URL:https://decaturlegacypark.com/event/culture-in-ag/
LOCATION:Legacy Park\, 500 S. Columbia Drive\, Decatur\, GA\, 30030\, United States
CATEGORIES:Tenant Events
ATTACH;FMTTYPE=image/jpeg:https://decaturlegacypark.com/wp-content/uploads/2022/04/Garden-Workday.jpg
END:VEVENT
END:VCALENDAR