BEGIN:VCALENDAR
VERSION:2.0
PRODID:-//Decatur Legacy Park - ECPv6.15.20//NONSGML v1.0//EN
CALSCALE:GREGORIAN
METHOD:PUBLISH
X-WR-CALNAME:Decatur Legacy Park
X-ORIGINAL-URL:https://decaturlegacypark.com
X-WR-CALDESC:Events for Decatur Legacy Park
REFRESH-INTERVAL;VALUE=DURATION:PT1H
X-Robots-Tag:noindex
X-PUBLISHED-TTL:PT1H
BEGIN:VTIMEZONE
TZID:America/New_York
BEGIN:DAYLIGHT
TZOFFSETFROM:-0500
TZOFFSETTO:-0400
TZNAME:EDT
DTSTART:20260308T070000
END:DAYLIGHT
BEGIN:STANDARD
TZOFFSETFROM:-0400
TZOFFSETTO:-0500
TZNAME:EST
DTSTART:20261101T060000
END:STANDARD
BEGIN:DAYLIGHT
TZOFFSETFROM:-0500
TZOFFSETTO:-0400
TZNAME:EDT
DTSTART:20270314T070000
END:DAYLIGHT
BEGIN:STANDARD
TZOFFSETFROM:-0400
TZOFFSETTO:-0500
TZNAME:EST
DTSTART:20271107T060000
END:STANDARD
BEGIN:DAYLIGHT
TZOFFSETFROM:-0500
TZOFFSETTO:-0400
TZNAME:EDT
DTSTART:20280312T070000
END:DAYLIGHT
BEGIN:STANDARD
TZOFFSETFROM:-0400
TZOFFSETTO:-0500
TZNAME:EST
DTSTART:20281105T060000
END:STANDARD
BEGIN:DAYLIGHT
TZOFFSETFROM:-0500
TZOFFSETTO:-0400
TZNAME:EDT
DTSTART:20290311T070000
END:DAYLIGHT
BEGIN:STANDARD
TZOFFSETFROM:-0400
TZOFFSETTO:-0500
TZNAME:EST
DTSTART:20291104T060000
END:STANDARD
END:VTIMEZONE
BEGIN:VEVENT
DTSTART;TZID=America/New_York:20271202T130000
DTEND;TZID=America/New_York:20271202T150000
DTSTAMP:20260419T132657
CREATED:20260206T143545Z
LAST-MODIFIED:20260206T143545Z
UID:10001750-1827752400-1827759600@decaturlegacypark.com
SUMMARY:Sustainable Landscaping Volunteer Day
DESCRIPTION:Decatur Community Habitat is transforming the front yard of Isom Cottage into an ecosystem filled with native plants\, food crops\, and\, of course\, beauty! Join them and build skills that you can take home to your own yard. Everyone is welcome! \nRegister here.
URL:https://decaturlegacypark.com/event/sustainable-landscaping-volunteer-day/2027-12-02/
LOCATION:Legacy Park\, 500 S. Columbia Drive\, Decatur\, GA\, 30030\, United States
CATEGORIES:Volunteer Opportunities
ATTACH;FMTTYPE=image/jpeg:https://decaturlegacypark.com/wp-content/uploads/2022/09/Event-Master.jpg
END:VEVENT
BEGIN:VEVENT
DTSTART;TZID=America/New_York:20271209T130000
DTEND;TZID=America/New_York:20271209T150000
DTSTAMP:20260419T132657
CREATED:20260206T143545Z
LAST-MODIFIED:20260206T143545Z
UID:10001751-1828357200-1828364400@decaturlegacypark.com
SUMMARY:Sustainable Landscaping Volunteer Day
DESCRIPTION:Decatur Community Habitat is transforming the front yard of Isom Cottage into an ecosystem filled with native plants\, food crops\, and\, of course\, beauty! Join them and build skills that you can take home to your own yard. Everyone is welcome! \nRegister here.
URL:https://decaturlegacypark.com/event/sustainable-landscaping-volunteer-day/2027-12-09/
LOCATION:Legacy Park\, 500 S. Columbia Drive\, Decatur\, GA\, 30030\, United States
CATEGORIES:Volunteer Opportunities
ATTACH;FMTTYPE=image/jpeg:https://decaturlegacypark.com/wp-content/uploads/2022/09/Event-Master.jpg
END:VEVENT
BEGIN:VEVENT
DTSTART;TZID=America/New_York:20271216T130000
DTEND;TZID=America/New_York:20271216T150000
DTSTAMP:20260419T132657
CREATED:20260206T143545Z
LAST-MODIFIED:20260206T143545Z
UID:10001752-1828962000-1828969200@decaturlegacypark.com
SUMMARY:Sustainable Landscaping Volunteer Day
DESCRIPTION:Decatur Community Habitat is transforming the front yard of Isom Cottage into an ecosystem filled with native plants\, food crops\, and\, of course\, beauty! Join them and build skills that you can take home to your own yard. Everyone is welcome! \nRegister here.
URL:https://decaturlegacypark.com/event/sustainable-landscaping-volunteer-day/2027-12-16/
LOCATION:Legacy Park\, 500 S. Columbia Drive\, Decatur\, GA\, 30030\, United States
CATEGORIES:Volunteer Opportunities
ATTACH;FMTTYPE=image/jpeg:https://decaturlegacypark.com/wp-content/uploads/2022/09/Event-Master.jpg
END:VEVENT
BEGIN:VEVENT
DTSTART;TZID=America/New_York:20271223T130000
DTEND;TZID=America/New_York:20271223T150000
DTSTAMP:20260419T132657
CREATED:20260206T143545Z
LAST-MODIFIED:20260206T143545Z
UID:10001753-1829566800-1829574000@decaturlegacypark.com
SUMMARY:Sustainable Landscaping Volunteer Day
DESCRIPTION:Decatur Community Habitat is transforming the front yard of Isom Cottage into an ecosystem filled with native plants\, food crops\, and\, of course\, beauty! Join them and build skills that you can take home to your own yard. Everyone is welcome! \nRegister here.
URL:https://decaturlegacypark.com/event/sustainable-landscaping-volunteer-day/2027-12-23/
LOCATION:Legacy Park\, 500 S. Columbia Drive\, Decatur\, GA\, 30030\, United States
CATEGORIES:Volunteer Opportunities
ATTACH;FMTTYPE=image/jpeg:https://decaturlegacypark.com/wp-content/uploads/2022/09/Event-Master.jpg
END:VEVENT
BEGIN:VEVENT
DTSTART;TZID=America/New_York:20271230T130000
DTEND;TZID=America/New_York:20271230T150000
DTSTAMP:20260419T132657
CREATED:20260206T143545Z
LAST-MODIFIED:20260206T143545Z
UID:10001754-1830171600-1830178800@decaturlegacypark.com
SUMMARY:Sustainable Landscaping Volunteer Day
DESCRIPTION:Decatur Community Habitat is transforming the front yard of Isom Cottage into an ecosystem filled with native plants\, food crops\, and\, of course\, beauty! Join them and build skills that you can take home to your own yard. Everyone is welcome! \nRegister here.
URL:https://decaturlegacypark.com/event/sustainable-landscaping-volunteer-day/2027-12-30/
LOCATION:Legacy Park\, 500 S. Columbia Drive\, Decatur\, GA\, 30030\, United States
CATEGORIES:Volunteer Opportunities
ATTACH;FMTTYPE=image/jpeg:https://decaturlegacypark.com/wp-content/uploads/2022/09/Event-Master.jpg
END:VEVENT
BEGIN:VEVENT
DTSTART;TZID=America/New_York:20280106T130000
DTEND;TZID=America/New_York:20280106T150000
DTSTAMP:20260419T132657
CREATED:20260206T143545Z
LAST-MODIFIED:20260206T143545Z
UID:10001755-1830776400-1830783600@decaturlegacypark.com
SUMMARY:Sustainable Landscaping Volunteer Day
DESCRIPTION:Decatur Community Habitat is transforming the front yard of Isom Cottage into an ecosystem filled with native plants\, food crops\, and\, of course\, beauty! Join them and build skills that you can take home to your own yard. Everyone is welcome! \nRegister here.
URL:https://decaturlegacypark.com/event/sustainable-landscaping-volunteer-day/2028-01-06/
LOCATION:Legacy Park\, 500 S. Columbia Drive\, Decatur\, GA\, 30030\, United States
CATEGORIES:Volunteer Opportunities
ATTACH;FMTTYPE=image/jpeg:https://decaturlegacypark.com/wp-content/uploads/2022/09/Event-Master.jpg
END:VEVENT
BEGIN:VEVENT
DTSTART;TZID=America/New_York:20280113T130000
DTEND;TZID=America/New_York:20280113T150000
DTSTAMP:20260419T132657
CREATED:20260206T143545Z
LAST-MODIFIED:20260206T143545Z
UID:10001756-1831381200-1831388400@decaturlegacypark.com
SUMMARY:Sustainable Landscaping Volunteer Day
DESCRIPTION:Decatur Community Habitat is transforming the front yard of Isom Cottage into an ecosystem filled with native plants\, food crops\, and\, of course\, beauty! Join them and build skills that you can take home to your own yard. Everyone is welcome! \nRegister here.
URL:https://decaturlegacypark.com/event/sustainable-landscaping-volunteer-day/2028-01-13/
LOCATION:Legacy Park\, 500 S. Columbia Drive\, Decatur\, GA\, 30030\, United States
CATEGORIES:Volunteer Opportunities
ATTACH;FMTTYPE=image/jpeg:https://decaturlegacypark.com/wp-content/uploads/2022/09/Event-Master.jpg
END:VEVENT
BEGIN:VEVENT
DTSTART;TZID=America/New_York:20280120T130000
DTEND;TZID=America/New_York:20280120T150000
DTSTAMP:20260419T132657
CREATED:20260206T143545Z
LAST-MODIFIED:20260206T143545Z
UID:10001757-1831986000-1831993200@decaturlegacypark.com
SUMMARY:Sustainable Landscaping Volunteer Day
DESCRIPTION:Decatur Community Habitat is transforming the front yard of Isom Cottage into an ecosystem filled with native plants\, food crops\, and\, of course\, beauty! Join them and build skills that you can take home to your own yard. Everyone is welcome! \nRegister here.
URL:https://decaturlegacypark.com/event/sustainable-landscaping-volunteer-day/2028-01-20/
LOCATION:Legacy Park\, 500 S. Columbia Drive\, Decatur\, GA\, 30030\, United States
CATEGORIES:Volunteer Opportunities
ATTACH;FMTTYPE=image/jpeg:https://decaturlegacypark.com/wp-content/uploads/2022/09/Event-Master.jpg
END:VEVENT
BEGIN:VEVENT
DTSTART;TZID=America/New_York:20280127T130000
DTEND;TZID=America/New_York:20280127T150000
DTSTAMP:20260419T132657
CREATED:20260206T143545Z
LAST-MODIFIED:20260206T143545Z
UID:10001758-1832590800-1832598000@decaturlegacypark.com
SUMMARY:Sustainable Landscaping Volunteer Day
DESCRIPTION:Decatur Community Habitat is transforming the front yard of Isom Cottage into an ecosystem filled with native plants\, food crops\, and\, of course\, beauty! Join them and build skills that you can take home to your own yard. Everyone is welcome! \nRegister here.
URL:https://decaturlegacypark.com/event/sustainable-landscaping-volunteer-day/2028-01-27/
LOCATION:Legacy Park\, 500 S. Columbia Drive\, Decatur\, GA\, 30030\, United States
CATEGORIES:Volunteer Opportunities
ATTACH;FMTTYPE=image/jpeg:https://decaturlegacypark.com/wp-content/uploads/2022/09/Event-Master.jpg
END:VEVENT
BEGIN:VEVENT
DTSTART;TZID=America/New_York:20280203T130000
DTEND;TZID=America/New_York:20280203T150000
DTSTAMP:20260419T132657
CREATED:20260206T143545Z
LAST-MODIFIED:20260206T143545Z
UID:10001759-1833195600-1833202800@decaturlegacypark.com
SUMMARY:Sustainable Landscaping Volunteer Day
DESCRIPTION:Decatur Community Habitat is transforming the front yard of Isom Cottage into an ecosystem filled with native plants\, food crops\, and\, of course\, beauty! Join them and build skills that you can take home to your own yard. Everyone is welcome! \nRegister here.
URL:https://decaturlegacypark.com/event/sustainable-landscaping-volunteer-day/2028-02-03/
LOCATION:Legacy Park\, 500 S. Columbia Drive\, Decatur\, GA\, 30030\, United States
CATEGORIES:Volunteer Opportunities
ATTACH;FMTTYPE=image/jpeg:https://decaturlegacypark.com/wp-content/uploads/2022/09/Event-Master.jpg
END:VEVENT
BEGIN:VEVENT
DTSTART;TZID=America/New_York:20280210T130000
DTEND;TZID=America/New_York:20280210T150000
DTSTAMP:20260419T132657
CREATED:20260206T143545Z
LAST-MODIFIED:20260206T143545Z
UID:10001760-1833800400-1833807600@decaturlegacypark.com
SUMMARY:Sustainable Landscaping Volunteer Day
DESCRIPTION:Decatur Community Habitat is transforming the front yard of Isom Cottage into an ecosystem filled with native plants\, food crops\, and\, of course\, beauty! Join them and build skills that you can take home to your own yard. Everyone is welcome! \nRegister here.
URL:https://decaturlegacypark.com/event/sustainable-landscaping-volunteer-day/2028-02-10/
LOCATION:Legacy Park\, 500 S. Columbia Drive\, Decatur\, GA\, 30030\, United States
CATEGORIES:Volunteer Opportunities
ATTACH;FMTTYPE=image/jpeg:https://decaturlegacypark.com/wp-content/uploads/2022/09/Event-Master.jpg
END:VEVENT
BEGIN:VEVENT
DTSTART;TZID=America/New_York:20280217T130000
DTEND;TZID=America/New_York:20280217T150000
DTSTAMP:20260419T132657
CREATED:20260206T143545Z
LAST-MODIFIED:20260206T143545Z
UID:10001761-1834405200-1834412400@decaturlegacypark.com
SUMMARY:Sustainable Landscaping Volunteer Day
DESCRIPTION:Decatur Community Habitat is transforming the front yard of Isom Cottage into an ecosystem filled with native plants\, food crops\, and\, of course\, beauty! Join them and build skills that you can take home to your own yard. Everyone is welcome! \nRegister here.
URL:https://decaturlegacypark.com/event/sustainable-landscaping-volunteer-day/2028-02-17/
LOCATION:Legacy Park\, 500 S. Columbia Drive\, Decatur\, GA\, 30030\, United States
CATEGORIES:Volunteer Opportunities
ATTACH;FMTTYPE=image/jpeg:https://decaturlegacypark.com/wp-content/uploads/2022/09/Event-Master.jpg
END:VEVENT
BEGIN:VEVENT
DTSTART;TZID=America/New_York:20280224T130000
DTEND;TZID=America/New_York:20280224T150000
DTSTAMP:20260419T132657
CREATED:20260206T143545Z
LAST-MODIFIED:20260206T143545Z
UID:10001762-1835010000-1835017200@decaturlegacypark.com
SUMMARY:Sustainable Landscaping Volunteer Day
DESCRIPTION:Decatur Community Habitat is transforming the front yard of Isom Cottage into an ecosystem filled with native plants\, food crops\, and\, of course\, beauty! Join them and build skills that you can take home to your own yard. Everyone is welcome! \nRegister here.
URL:https://decaturlegacypark.com/event/sustainable-landscaping-volunteer-day/2028-02-24/
LOCATION:Legacy Park\, 500 S. Columbia Drive\, Decatur\, GA\, 30030\, United States
CATEGORIES:Volunteer Opportunities
ATTACH;FMTTYPE=image/jpeg:https://decaturlegacypark.com/wp-content/uploads/2022/09/Event-Master.jpg
END:VEVENT
BEGIN:VEVENT
DTSTART;TZID=America/New_York:20280302T130000
DTEND;TZID=America/New_York:20280302T150000
DTSTAMP:20260419T132657
CREATED:20260206T143545Z
LAST-MODIFIED:20260206T143545Z
UID:10001763-1835614800-1835622000@decaturlegacypark.com
SUMMARY:Sustainable Landscaping Volunteer Day
DESCRIPTION:Decatur Community Habitat is transforming the front yard of Isom Cottage into an ecosystem filled with native plants\, food crops\, and\, of course\, beauty! Join them and build skills that you can take home to your own yard. Everyone is welcome! \nRegister here.
URL:https://decaturlegacypark.com/event/sustainable-landscaping-volunteer-day/2028-03-02/
LOCATION:Legacy Park\, 500 S. Columbia Drive\, Decatur\, GA\, 30030\, United States
CATEGORIES:Volunteer Opportunities
ATTACH;FMTTYPE=image/jpeg:https://decaturlegacypark.com/wp-content/uploads/2022/09/Event-Master.jpg
END:VEVENT
BEGIN:VEVENT
DTSTART;TZID=America/New_York:20280309T130000
DTEND;TZID=America/New_York:20280309T150000
DTSTAMP:20260419T132657
CREATED:20260206T143545Z
LAST-MODIFIED:20260206T143545Z
UID:10001764-1836219600-1836226800@decaturlegacypark.com
SUMMARY:Sustainable Landscaping Volunteer Day
DESCRIPTION:Decatur Community Habitat is transforming the front yard of Isom Cottage into an ecosystem filled with native plants\, food crops\, and\, of course\, beauty! Join them and build skills that you can take home to your own yard. Everyone is welcome! \nRegister here.
URL:https://decaturlegacypark.com/event/sustainable-landscaping-volunteer-day/2028-03-09/
LOCATION:Legacy Park\, 500 S. Columbia Drive\, Decatur\, GA\, 30030\, United States
CATEGORIES:Volunteer Opportunities
ATTACH;FMTTYPE=image/jpeg:https://decaturlegacypark.com/wp-content/uploads/2022/09/Event-Master.jpg
END:VEVENT
BEGIN:VEVENT
DTSTART;TZID=America/New_York:20280316T130000
DTEND;TZID=America/New_York:20280316T150000
DTSTAMP:20260419T132657
CREATED:20260206T143545Z
LAST-MODIFIED:20260206T143545Z
UID:10001765-1836824400-1836831600@decaturlegacypark.com
SUMMARY:Sustainable Landscaping Volunteer Day
DESCRIPTION:Decatur Community Habitat is transforming the front yard of Isom Cottage into an ecosystem filled with native plants\, food crops\, and\, of course\, beauty! Join them and build skills that you can take home to your own yard. Everyone is welcome! \nRegister here.
URL:https://decaturlegacypark.com/event/sustainable-landscaping-volunteer-day/2028-03-16/
LOCATION:Legacy Park\, 500 S. Columbia Drive\, Decatur\, GA\, 30030\, United States
CATEGORIES:Volunteer Opportunities
ATTACH;FMTTYPE=image/jpeg:https://decaturlegacypark.com/wp-content/uploads/2022/09/Event-Master.jpg
END:VEVENT
BEGIN:VEVENT
DTSTART;TZID=America/New_York:20280323T130000
DTEND;TZID=America/New_York:20280323T150000
DTSTAMP:20260419T132657
CREATED:20260206T143545Z
LAST-MODIFIED:20260206T143545Z
UID:10001766-1837429200-1837436400@decaturlegacypark.com
SUMMARY:Sustainable Landscaping Volunteer Day
DESCRIPTION:Decatur Community Habitat is transforming the front yard of Isom Cottage into an ecosystem filled with native plants\, food crops\, and\, of course\, beauty! Join them and build skills that you can take home to your own yard. Everyone is welcome! \nRegister here.
URL:https://decaturlegacypark.com/event/sustainable-landscaping-volunteer-day/2028-03-23/
LOCATION:Legacy Park\, 500 S. Columbia Drive\, Decatur\, GA\, 30030\, United States
CATEGORIES:Volunteer Opportunities
ATTACH;FMTTYPE=image/jpeg:https://decaturlegacypark.com/wp-content/uploads/2022/09/Event-Master.jpg
END:VEVENT
BEGIN:VEVENT
DTSTART;TZID=America/New_York:20280330T130000
DTEND;TZID=America/New_York:20280330T150000
DTSTAMP:20260419T132657
CREATED:20260206T143545Z
LAST-MODIFIED:20260206T143545Z
UID:10001767-1838034000-1838041200@decaturlegacypark.com
SUMMARY:Sustainable Landscaping Volunteer Day
DESCRIPTION:Decatur Community Habitat is transforming the front yard of Isom Cottage into an ecosystem filled with native plants\, food crops\, and\, of course\, beauty! Join them and build skills that you can take home to your own yard. Everyone is welcome! \nRegister here.
URL:https://decaturlegacypark.com/event/sustainable-landscaping-volunteer-day/2028-03-30/
LOCATION:Legacy Park\, 500 S. Columbia Drive\, Decatur\, GA\, 30030\, United States
CATEGORIES:Volunteer Opportunities
ATTACH;FMTTYPE=image/jpeg:https://decaturlegacypark.com/wp-content/uploads/2022/09/Event-Master.jpg
END:VEVENT
BEGIN:VEVENT
DTSTART;TZID=America/New_York:20280406T130000
DTEND;TZID=America/New_York:20280406T150000
DTSTAMP:20260419T132657
CREATED:20260206T143545Z
LAST-MODIFIED:20260206T143545Z
UID:10001768-1838638800-1838646000@decaturlegacypark.com
SUMMARY:Sustainable Landscaping Volunteer Day
DESCRIPTION:Decatur Community Habitat is transforming the front yard of Isom Cottage into an ecosystem filled with native plants\, food crops\, and\, of course\, beauty! Join them and build skills that you can take home to your own yard. Everyone is welcome! \nRegister here.
URL:https://decaturlegacypark.com/event/sustainable-landscaping-volunteer-day/2028-04-06/
LOCATION:Legacy Park\, 500 S. Columbia Drive\, Decatur\, GA\, 30030\, United States
CATEGORIES:Volunteer Opportunities
ATTACH;FMTTYPE=image/jpeg:https://decaturlegacypark.com/wp-content/uploads/2022/09/Event-Master.jpg
END:VEVENT
BEGIN:VEVENT
DTSTART;TZID=America/New_York:20280413T130000
DTEND;TZID=America/New_York:20280413T150000
DTSTAMP:20260419T132657
CREATED:20260206T143545Z
LAST-MODIFIED:20260206T143545Z
UID:10001769-1839243600-1839250800@decaturlegacypark.com
SUMMARY:Sustainable Landscaping Volunteer Day
DESCRIPTION:Decatur Community Habitat is transforming the front yard of Isom Cottage into an ecosystem filled with native plants\, food crops\, and\, of course\, beauty! Join them and build skills that you can take home to your own yard. Everyone is welcome! \nRegister here.
URL:https://decaturlegacypark.com/event/sustainable-landscaping-volunteer-day/2028-04-13/
LOCATION:Legacy Park\, 500 S. Columbia Drive\, Decatur\, GA\, 30030\, United States
CATEGORIES:Volunteer Opportunities
ATTACH;FMTTYPE=image/jpeg:https://decaturlegacypark.com/wp-content/uploads/2022/09/Event-Master.jpg
END:VEVENT
BEGIN:VEVENT
DTSTART;TZID=America/New_York:20280420T130000
DTEND;TZID=America/New_York:20280420T150000
DTSTAMP:20260419T132657
CREATED:20260206T143545Z
LAST-MODIFIED:20260206T143545Z
UID:10001770-1839848400-1839855600@decaturlegacypark.com
SUMMARY:Sustainable Landscaping Volunteer Day
DESCRIPTION:Decatur Community Habitat is transforming the front yard of Isom Cottage into an ecosystem filled with native plants\, food crops\, and\, of course\, beauty! Join them and build skills that you can take home to your own yard. Everyone is welcome! \nRegister here.
URL:https://decaturlegacypark.com/event/sustainable-landscaping-volunteer-day/2028-04-20/
LOCATION:Legacy Park\, 500 S. Columbia Drive\, Decatur\, GA\, 30030\, United States
CATEGORIES:Volunteer Opportunities
ATTACH;FMTTYPE=image/jpeg:https://decaturlegacypark.com/wp-content/uploads/2022/09/Event-Master.jpg
END:VEVENT
BEGIN:VEVENT
DTSTART;TZID=America/New_York:20280427T130000
DTEND;TZID=America/New_York:20280427T150000
DTSTAMP:20260419T132657
CREATED:20260206T143545Z
LAST-MODIFIED:20260206T143545Z
UID:10001771-1840453200-1840460400@decaturlegacypark.com
SUMMARY:Sustainable Landscaping Volunteer Day
DESCRIPTION:Decatur Community Habitat is transforming the front yard of Isom Cottage into an ecosystem filled with native plants\, food crops\, and\, of course\, beauty! Join them and build skills that you can take home to your own yard. Everyone is welcome! \nRegister here.
URL:https://decaturlegacypark.com/event/sustainable-landscaping-volunteer-day/2028-04-27/
LOCATION:Legacy Park\, 500 S. Columbia Drive\, Decatur\, GA\, 30030\, United States
CATEGORIES:Volunteer Opportunities
ATTACH;FMTTYPE=image/jpeg:https://decaturlegacypark.com/wp-content/uploads/2022/09/Event-Master.jpg
END:VEVENT
BEGIN:VEVENT
DTSTART;TZID=America/New_York:20280504T130000
DTEND;TZID=America/New_York:20280504T150000
DTSTAMP:20260419T132657
CREATED:20260206T143545Z
LAST-MODIFIED:20260206T143545Z
UID:10001772-1841058000-1841065200@decaturlegacypark.com
SUMMARY:Sustainable Landscaping Volunteer Day
DESCRIPTION:Decatur Community Habitat is transforming the front yard of Isom Cottage into an ecosystem filled with native plants\, food crops\, and\, of course\, beauty! Join them and build skills that you can take home to your own yard. Everyone is welcome! \nRegister here.
URL:https://decaturlegacypark.com/event/sustainable-landscaping-volunteer-day/2028-05-04/
LOCATION:Legacy Park\, 500 S. Columbia Drive\, Decatur\, GA\, 30030\, United States
CATEGORIES:Volunteer Opportunities
ATTACH;FMTTYPE=image/jpeg:https://decaturlegacypark.com/wp-content/uploads/2022/09/Event-Master.jpg
END:VEVENT
BEGIN:VEVENT
DTSTART;TZID=America/New_York:20280511T130000
DTEND;TZID=America/New_York:20280511T150000
DTSTAMP:20260419T132657
CREATED:20260206T143545Z
LAST-MODIFIED:20260206T143545Z
UID:10001773-1841662800-1841670000@decaturlegacypark.com
SUMMARY:Sustainable Landscaping Volunteer Day
DESCRIPTION:Decatur Community Habitat is transforming the front yard of Isom Cottage into an ecosystem filled with native plants\, food crops\, and\, of course\, beauty! Join them and build skills that you can take home to your own yard. Everyone is welcome! \nRegister here.
URL:https://decaturlegacypark.com/event/sustainable-landscaping-volunteer-day/2028-05-11/
LOCATION:Legacy Park\, 500 S. Columbia Drive\, Decatur\, GA\, 30030\, United States
CATEGORIES:Volunteer Opportunities
ATTACH;FMTTYPE=image/jpeg:https://decaturlegacypark.com/wp-content/uploads/2022/09/Event-Master.jpg
END:VEVENT
BEGIN:VEVENT
DTSTART;TZID=America/New_York:20280518T130000
DTEND;TZID=America/New_York:20280518T150000
DTSTAMP:20260419T132657
CREATED:20260206T143545Z
LAST-MODIFIED:20260206T143545Z
UID:10001774-1842267600-1842274800@decaturlegacypark.com
SUMMARY:Sustainable Landscaping Volunteer Day
DESCRIPTION:Decatur Community Habitat is transforming the front yard of Isom Cottage into an ecosystem filled with native plants\, food crops\, and\, of course\, beauty! Join them and build skills that you can take home to your own yard. Everyone is welcome! \nRegister here.
URL:https://decaturlegacypark.com/event/sustainable-landscaping-volunteer-day/2028-05-18/
LOCATION:Legacy Park\, 500 S. Columbia Drive\, Decatur\, GA\, 30030\, United States
CATEGORIES:Volunteer Opportunities
ATTACH;FMTTYPE=image/jpeg:https://decaturlegacypark.com/wp-content/uploads/2022/09/Event-Master.jpg
END:VEVENT
BEGIN:VEVENT
DTSTART;TZID=America/New_York:20280525T130000
DTEND;TZID=America/New_York:20280525T150000
DTSTAMP:20260419T132657
CREATED:20260206T143545Z
LAST-MODIFIED:20260206T143545Z
UID:10001775-1842872400-1842879600@decaturlegacypark.com
SUMMARY:Sustainable Landscaping Volunteer Day
DESCRIPTION:Decatur Community Habitat is transforming the front yard of Isom Cottage into an ecosystem filled with native plants\, food crops\, and\, of course\, beauty! Join them and build skills that you can take home to your own yard. Everyone is welcome! \nRegister here.
URL:https://decaturlegacypark.com/event/sustainable-landscaping-volunteer-day/2028-05-25/
LOCATION:Legacy Park\, 500 S. Columbia Drive\, Decatur\, GA\, 30030\, United States
CATEGORIES:Volunteer Opportunities
ATTACH;FMTTYPE=image/jpeg:https://decaturlegacypark.com/wp-content/uploads/2022/09/Event-Master.jpg
END:VEVENT
BEGIN:VEVENT
DTSTART;TZID=America/New_York:20280601T130000
DTEND;TZID=America/New_York:20280601T150000
DTSTAMP:20260419T132657
CREATED:20260206T143545Z
LAST-MODIFIED:20260206T143545Z
UID:10001776-1843477200-1843484400@decaturlegacypark.com
SUMMARY:Sustainable Landscaping Volunteer Day
DESCRIPTION:Decatur Community Habitat is transforming the front yard of Isom Cottage into an ecosystem filled with native plants\, food crops\, and\, of course\, beauty! Join them and build skills that you can take home to your own yard. Everyone is welcome! \nRegister here.
URL:https://decaturlegacypark.com/event/sustainable-landscaping-volunteer-day/2028-06-01/
LOCATION:Legacy Park\, 500 S. Columbia Drive\, Decatur\, GA\, 30030\, United States
CATEGORIES:Volunteer Opportunities
ATTACH;FMTTYPE=image/jpeg:https://decaturlegacypark.com/wp-content/uploads/2022/09/Event-Master.jpg
END:VEVENT
BEGIN:VEVENT
DTSTART;TZID=America/New_York:20280608T130000
DTEND;TZID=America/New_York:20280608T150000
DTSTAMP:20260419T132657
CREATED:20260206T143545Z
LAST-MODIFIED:20260206T143545Z
UID:10001777-1844082000-1844089200@decaturlegacypark.com
SUMMARY:Sustainable Landscaping Volunteer Day
DESCRIPTION:Decatur Community Habitat is transforming the front yard of Isom Cottage into an ecosystem filled with native plants\, food crops\, and\, of course\, beauty! Join them and build skills that you can take home to your own yard. Everyone is welcome! \nRegister here.
URL:https://decaturlegacypark.com/event/sustainable-landscaping-volunteer-day/2028-06-08/
LOCATION:Legacy Park\, 500 S. Columbia Drive\, Decatur\, GA\, 30030\, United States
CATEGORIES:Volunteer Opportunities
ATTACH;FMTTYPE=image/jpeg:https://decaturlegacypark.com/wp-content/uploads/2022/09/Event-Master.jpg
END:VEVENT
BEGIN:VEVENT
DTSTART;TZID=America/New_York:20280615T130000
DTEND;TZID=America/New_York:20280615T150000
DTSTAMP:20260419T132657
CREATED:20260206T143545Z
LAST-MODIFIED:20260206T143545Z
UID:10001778-1844686800-1844694000@decaturlegacypark.com
SUMMARY:Sustainable Landscaping Volunteer Day
DESCRIPTION:Decatur Community Habitat is transforming the front yard of Isom Cottage into an ecosystem filled with native plants\, food crops\, and\, of course\, beauty! Join them and build skills that you can take home to your own yard. Everyone is welcome! \nRegister here.
URL:https://decaturlegacypark.com/event/sustainable-landscaping-volunteer-day/2028-06-15/
LOCATION:Legacy Park\, 500 S. Columbia Drive\, Decatur\, GA\, 30030\, United States
CATEGORIES:Volunteer Opportunities
ATTACH;FMTTYPE=image/jpeg:https://decaturlegacypark.com/wp-content/uploads/2022/09/Event-Master.jpg
END:VEVENT
BEGIN:VEVENT
DTSTART;TZID=America/New_York:20280622T130000
DTEND;TZID=America/New_York:20280622T150000
DTSTAMP:20260419T132657
CREATED:20260206T143545Z
LAST-MODIFIED:20260206T143545Z
UID:10001779-1845291600-1845298800@decaturlegacypark.com
SUMMARY:Sustainable Landscaping Volunteer Day
DESCRIPTION:Decatur Community Habitat is transforming the front yard of Isom Cottage into an ecosystem filled with native plants\, food crops\, and\, of course\, beauty! Join them and build skills that you can take home to your own yard. Everyone is welcome! \nRegister here.
URL:https://decaturlegacypark.com/event/sustainable-landscaping-volunteer-day/2028-06-22/
LOCATION:Legacy Park\, 500 S. Columbia Drive\, Decatur\, GA\, 30030\, United States
CATEGORIES:Volunteer Opportunities
ATTACH;FMTTYPE=image/jpeg:https://decaturlegacypark.com/wp-content/uploads/2022/09/Event-Master.jpg
END:VEVENT
END:VCALENDAR