BEGIN:VCALENDAR
VERSION:2.0
PRODID:-//Decatur Legacy Park - ECPv6.15.20//NONSGML v1.0//EN
CALSCALE:GREGORIAN
METHOD:PUBLISH
X-WR-CALNAME:Decatur Legacy Park
X-ORIGINAL-URL:https://decaturlegacypark.com
X-WR-CALDESC:Events for Decatur Legacy Park
REFRESH-INTERVAL;VALUE=DURATION:PT1H
X-Robots-Tag:noindex
X-PUBLISHED-TTL:PT1H
BEGIN:VTIMEZONE
TZID:America/New_York
BEGIN:DAYLIGHT
TZOFFSETFROM:-0500
TZOFFSETTO:-0400
TZNAME:EDT
DTSTART:20290311T070000
END:DAYLIGHT
BEGIN:STANDARD
TZOFFSETFROM:-0400
TZOFFSETTO:-0500
TZNAME:EST
DTSTART:20291104T060000
END:STANDARD
BEGIN:DAYLIGHT
TZOFFSETFROM:-0500
TZOFFSETTO:-0400
TZNAME:EDT
DTSTART:20300310T070000
END:DAYLIGHT
BEGIN:STANDARD
TZOFFSETFROM:-0400
TZOFFSETTO:-0500
TZNAME:EST
DTSTART:20301103T060000
END:STANDARD
BEGIN:DAYLIGHT
TZOFFSETFROM:-0500
TZOFFSETTO:-0400
TZNAME:EDT
DTSTART:20310309T070000
END:DAYLIGHT
BEGIN:STANDARD
TZOFFSETFROM:-0400
TZOFFSETTO:-0500
TZNAME:EST
DTSTART:20311102T060000
END:STANDARD
END:VTIMEZONE
BEGIN:VEVENT
DTSTART;TZID=America/New_York:20300321T130000
DTEND;TZID=America/New_York:20300321T150000
DTSTAMP:20260420T050233
CREATED:20260206T143545Z
LAST-MODIFIED:20260206T143545Z
UID:10001870-1900328400-1900335600@decaturlegacypark.com
SUMMARY:Sustainable Landscaping Volunteer Day
DESCRIPTION:Decatur Community Habitat is transforming the front yard of Isom Cottage into an ecosystem filled with native plants\, food crops\, and\, of course\, beauty! Join them and build skills that you can take home to your own yard. Everyone is welcome! \nRegister here.
URL:https://decaturlegacypark.com/event/sustainable-landscaping-volunteer-day/2030-03-21/
LOCATION:Legacy Park\, 500 S. Columbia Drive\, Decatur\, GA\, 30030\, United States
CATEGORIES:Volunteer Opportunities
ATTACH;FMTTYPE=image/jpeg:https://decaturlegacypark.com/wp-content/uploads/2022/09/Event-Master.jpg
END:VEVENT
BEGIN:VEVENT
DTSTART;TZID=America/New_York:20300328T130000
DTEND;TZID=America/New_York:20300328T150000
DTSTAMP:20260420T050233
CREATED:20260206T143545Z
LAST-MODIFIED:20260206T143545Z
UID:10001871-1900933200-1900940400@decaturlegacypark.com
SUMMARY:Sustainable Landscaping Volunteer Day
DESCRIPTION:Decatur Community Habitat is transforming the front yard of Isom Cottage into an ecosystem filled with native plants\, food crops\, and\, of course\, beauty! Join them and build skills that you can take home to your own yard. Everyone is welcome! \nRegister here.
URL:https://decaturlegacypark.com/event/sustainable-landscaping-volunteer-day/2030-03-28/
LOCATION:Legacy Park\, 500 S. Columbia Drive\, Decatur\, GA\, 30030\, United States
CATEGORIES:Volunteer Opportunities
ATTACH;FMTTYPE=image/jpeg:https://decaturlegacypark.com/wp-content/uploads/2022/09/Event-Master.jpg
END:VEVENT
BEGIN:VEVENT
DTSTART;TZID=America/New_York:20300404T130000
DTEND;TZID=America/New_York:20300404T150000
DTSTAMP:20260420T050233
CREATED:20260206T143545Z
LAST-MODIFIED:20260206T143545Z
UID:10001872-1901538000-1901545200@decaturlegacypark.com
SUMMARY:Sustainable Landscaping Volunteer Day
DESCRIPTION:Decatur Community Habitat is transforming the front yard of Isom Cottage into an ecosystem filled with native plants\, food crops\, and\, of course\, beauty! Join them and build skills that you can take home to your own yard. Everyone is welcome! \nRegister here.
URL:https://decaturlegacypark.com/event/sustainable-landscaping-volunteer-day/2030-04-04/
LOCATION:Legacy Park\, 500 S. Columbia Drive\, Decatur\, GA\, 30030\, United States
CATEGORIES:Volunteer Opportunities
ATTACH;FMTTYPE=image/jpeg:https://decaturlegacypark.com/wp-content/uploads/2022/09/Event-Master.jpg
END:VEVENT
BEGIN:VEVENT
DTSTART;TZID=America/New_York:20300411T130000
DTEND;TZID=America/New_York:20300411T150000
DTSTAMP:20260420T050233
CREATED:20260206T143545Z
LAST-MODIFIED:20260206T143545Z
UID:10001873-1902142800-1902150000@decaturlegacypark.com
SUMMARY:Sustainable Landscaping Volunteer Day
DESCRIPTION:Decatur Community Habitat is transforming the front yard of Isom Cottage into an ecosystem filled with native plants\, food crops\, and\, of course\, beauty! Join them and build skills that you can take home to your own yard. Everyone is welcome! \nRegister here.
URL:https://decaturlegacypark.com/event/sustainable-landscaping-volunteer-day/2030-04-11/
LOCATION:Legacy Park\, 500 S. Columbia Drive\, Decatur\, GA\, 30030\, United States
CATEGORIES:Volunteer Opportunities
ATTACH;FMTTYPE=image/jpeg:https://decaturlegacypark.com/wp-content/uploads/2022/09/Event-Master.jpg
END:VEVENT
BEGIN:VEVENT
DTSTART;TZID=America/New_York:20300418T130000
DTEND;TZID=America/New_York:20300418T150000
DTSTAMP:20260420T050233
CREATED:20260206T143545Z
LAST-MODIFIED:20260206T143545Z
UID:10001874-1902747600-1902754800@decaturlegacypark.com
SUMMARY:Sustainable Landscaping Volunteer Day
DESCRIPTION:Decatur Community Habitat is transforming the front yard of Isom Cottage into an ecosystem filled with native plants\, food crops\, and\, of course\, beauty! Join them and build skills that you can take home to your own yard. Everyone is welcome! \nRegister here.
URL:https://decaturlegacypark.com/event/sustainable-landscaping-volunteer-day/2030-04-18/
LOCATION:Legacy Park\, 500 S. Columbia Drive\, Decatur\, GA\, 30030\, United States
CATEGORIES:Volunteer Opportunities
ATTACH;FMTTYPE=image/jpeg:https://decaturlegacypark.com/wp-content/uploads/2022/09/Event-Master.jpg
END:VEVENT
BEGIN:VEVENT
DTSTART;TZID=America/New_York:20300425T130000
DTEND;TZID=America/New_York:20300425T150000
DTSTAMP:20260420T050233
CREATED:20260206T143545Z
LAST-MODIFIED:20260206T143545Z
UID:10001875-1903352400-1903359600@decaturlegacypark.com
SUMMARY:Sustainable Landscaping Volunteer Day
DESCRIPTION:Decatur Community Habitat is transforming the front yard of Isom Cottage into an ecosystem filled with native plants\, food crops\, and\, of course\, beauty! Join them and build skills that you can take home to your own yard. Everyone is welcome! \nRegister here.
URL:https://decaturlegacypark.com/event/sustainable-landscaping-volunteer-day/2030-04-25/
LOCATION:Legacy Park\, 500 S. Columbia Drive\, Decatur\, GA\, 30030\, United States
CATEGORIES:Volunteer Opportunities
ATTACH;FMTTYPE=image/jpeg:https://decaturlegacypark.com/wp-content/uploads/2022/09/Event-Master.jpg
END:VEVENT
BEGIN:VEVENT
DTSTART;TZID=America/New_York:20300502T130000
DTEND;TZID=America/New_York:20300502T150000
DTSTAMP:20260420T050233
CREATED:20260206T143545Z
LAST-MODIFIED:20260206T143545Z
UID:10001876-1903957200-1903964400@decaturlegacypark.com
SUMMARY:Sustainable Landscaping Volunteer Day
DESCRIPTION:Decatur Community Habitat is transforming the front yard of Isom Cottage into an ecosystem filled with native plants\, food crops\, and\, of course\, beauty! Join them and build skills that you can take home to your own yard. Everyone is welcome! \nRegister here.
URL:https://decaturlegacypark.com/event/sustainable-landscaping-volunteer-day/2030-05-02/
LOCATION:Legacy Park\, 500 S. Columbia Drive\, Decatur\, GA\, 30030\, United States
CATEGORIES:Volunteer Opportunities
ATTACH;FMTTYPE=image/jpeg:https://decaturlegacypark.com/wp-content/uploads/2022/09/Event-Master.jpg
END:VEVENT
BEGIN:VEVENT
DTSTART;TZID=America/New_York:20300509T130000
DTEND;TZID=America/New_York:20300509T150000
DTSTAMP:20260420T050233
CREATED:20260206T143545Z
LAST-MODIFIED:20260206T143545Z
UID:10001877-1904562000-1904569200@decaturlegacypark.com
SUMMARY:Sustainable Landscaping Volunteer Day
DESCRIPTION:Decatur Community Habitat is transforming the front yard of Isom Cottage into an ecosystem filled with native plants\, food crops\, and\, of course\, beauty! Join them and build skills that you can take home to your own yard. Everyone is welcome! \nRegister here.
URL:https://decaturlegacypark.com/event/sustainable-landscaping-volunteer-day/2030-05-09/
LOCATION:Legacy Park\, 500 S. Columbia Drive\, Decatur\, GA\, 30030\, United States
CATEGORIES:Volunteer Opportunities
ATTACH;FMTTYPE=image/jpeg:https://decaturlegacypark.com/wp-content/uploads/2022/09/Event-Master.jpg
END:VEVENT
BEGIN:VEVENT
DTSTART;TZID=America/New_York:20300516T130000
DTEND;TZID=America/New_York:20300516T150000
DTSTAMP:20260420T050233
CREATED:20260206T143545Z
LAST-MODIFIED:20260206T143545Z
UID:10001878-1905166800-1905174000@decaturlegacypark.com
SUMMARY:Sustainable Landscaping Volunteer Day
DESCRIPTION:Decatur Community Habitat is transforming the front yard of Isom Cottage into an ecosystem filled with native plants\, food crops\, and\, of course\, beauty! Join them and build skills that you can take home to your own yard. Everyone is welcome! \nRegister here.
URL:https://decaturlegacypark.com/event/sustainable-landscaping-volunteer-day/2030-05-16/
LOCATION:Legacy Park\, 500 S. Columbia Drive\, Decatur\, GA\, 30030\, United States
CATEGORIES:Volunteer Opportunities
ATTACH;FMTTYPE=image/jpeg:https://decaturlegacypark.com/wp-content/uploads/2022/09/Event-Master.jpg
END:VEVENT
BEGIN:VEVENT
DTSTART;TZID=America/New_York:20300523T130000
DTEND;TZID=America/New_York:20300523T150000
DTSTAMP:20260420T050233
CREATED:20260206T143545Z
LAST-MODIFIED:20260206T143545Z
UID:10001879-1905771600-1905778800@decaturlegacypark.com
SUMMARY:Sustainable Landscaping Volunteer Day
DESCRIPTION:Decatur Community Habitat is transforming the front yard of Isom Cottage into an ecosystem filled with native plants\, food crops\, and\, of course\, beauty! Join them and build skills that you can take home to your own yard. Everyone is welcome! \nRegister here.
URL:https://decaturlegacypark.com/event/sustainable-landscaping-volunteer-day/2030-05-23/
LOCATION:Legacy Park\, 500 S. Columbia Drive\, Decatur\, GA\, 30030\, United States
CATEGORIES:Volunteer Opportunities
ATTACH;FMTTYPE=image/jpeg:https://decaturlegacypark.com/wp-content/uploads/2022/09/Event-Master.jpg
END:VEVENT
BEGIN:VEVENT
DTSTART;TZID=America/New_York:20300530T130000
DTEND;TZID=America/New_York:20300530T150000
DTSTAMP:20260420T050233
CREATED:20260206T143545Z
LAST-MODIFIED:20260206T143545Z
UID:10001880-1906376400-1906383600@decaturlegacypark.com
SUMMARY:Sustainable Landscaping Volunteer Day
DESCRIPTION:Decatur Community Habitat is transforming the front yard of Isom Cottage into an ecosystem filled with native plants\, food crops\, and\, of course\, beauty! Join them and build skills that you can take home to your own yard. Everyone is welcome! \nRegister here.
URL:https://decaturlegacypark.com/event/sustainable-landscaping-volunteer-day/2030-05-30/
LOCATION:Legacy Park\, 500 S. Columbia Drive\, Decatur\, GA\, 30030\, United States
CATEGORIES:Volunteer Opportunities
ATTACH;FMTTYPE=image/jpeg:https://decaturlegacypark.com/wp-content/uploads/2022/09/Event-Master.jpg
END:VEVENT
BEGIN:VEVENT
DTSTART;TZID=America/New_York:20300606T130000
DTEND;TZID=America/New_York:20300606T150000
DTSTAMP:20260420T050233
CREATED:20260206T143545Z
LAST-MODIFIED:20260206T143545Z
UID:10001881-1906981200-1906988400@decaturlegacypark.com
SUMMARY:Sustainable Landscaping Volunteer Day
DESCRIPTION:Decatur Community Habitat is transforming the front yard of Isom Cottage into an ecosystem filled with native plants\, food crops\, and\, of course\, beauty! Join them and build skills that you can take home to your own yard. Everyone is welcome! \nRegister here.
URL:https://decaturlegacypark.com/event/sustainable-landscaping-volunteer-day/2030-06-06/
LOCATION:Legacy Park\, 500 S. Columbia Drive\, Decatur\, GA\, 30030\, United States
CATEGORIES:Volunteer Opportunities
ATTACH;FMTTYPE=image/jpeg:https://decaturlegacypark.com/wp-content/uploads/2022/09/Event-Master.jpg
END:VEVENT
BEGIN:VEVENT
DTSTART;TZID=America/New_York:20300613T130000
DTEND;TZID=America/New_York:20300613T150000
DTSTAMP:20260420T050233
CREATED:20260206T143545Z
LAST-MODIFIED:20260206T143545Z
UID:10001882-1907586000-1907593200@decaturlegacypark.com
SUMMARY:Sustainable Landscaping Volunteer Day
DESCRIPTION:Decatur Community Habitat is transforming the front yard of Isom Cottage into an ecosystem filled with native plants\, food crops\, and\, of course\, beauty! Join them and build skills that you can take home to your own yard. Everyone is welcome! \nRegister here.
URL:https://decaturlegacypark.com/event/sustainable-landscaping-volunteer-day/2030-06-13/
LOCATION:Legacy Park\, 500 S. Columbia Drive\, Decatur\, GA\, 30030\, United States
CATEGORIES:Volunteer Opportunities
ATTACH;FMTTYPE=image/jpeg:https://decaturlegacypark.com/wp-content/uploads/2022/09/Event-Master.jpg
END:VEVENT
BEGIN:VEVENT
DTSTART;TZID=America/New_York:20300620T130000
DTEND;TZID=America/New_York:20300620T150000
DTSTAMP:20260420T050233
CREATED:20260206T143545Z
LAST-MODIFIED:20260206T143545Z
UID:10001883-1908190800-1908198000@decaturlegacypark.com
SUMMARY:Sustainable Landscaping Volunteer Day
DESCRIPTION:Decatur Community Habitat is transforming the front yard of Isom Cottage into an ecosystem filled with native plants\, food crops\, and\, of course\, beauty! Join them and build skills that you can take home to your own yard. Everyone is welcome! \nRegister here.
URL:https://decaturlegacypark.com/event/sustainable-landscaping-volunteer-day/2030-06-20/
LOCATION:Legacy Park\, 500 S. Columbia Drive\, Decatur\, GA\, 30030\, United States
CATEGORIES:Volunteer Opportunities
ATTACH;FMTTYPE=image/jpeg:https://decaturlegacypark.com/wp-content/uploads/2022/09/Event-Master.jpg
END:VEVENT
BEGIN:VEVENT
DTSTART;TZID=America/New_York:20300627T130000
DTEND;TZID=America/New_York:20300627T150000
DTSTAMP:20260420T050233
CREATED:20260206T143545Z
LAST-MODIFIED:20260206T143545Z
UID:10001884-1908795600-1908802800@decaturlegacypark.com
SUMMARY:Sustainable Landscaping Volunteer Day
DESCRIPTION:Decatur Community Habitat is transforming the front yard of Isom Cottage into an ecosystem filled with native plants\, food crops\, and\, of course\, beauty! Join them and build skills that you can take home to your own yard. Everyone is welcome! \nRegister here.
URL:https://decaturlegacypark.com/event/sustainable-landscaping-volunteer-day/2030-06-27/
LOCATION:Legacy Park\, 500 S. Columbia Drive\, Decatur\, GA\, 30030\, United States
CATEGORIES:Volunteer Opportunities
ATTACH;FMTTYPE=image/jpeg:https://decaturlegacypark.com/wp-content/uploads/2022/09/Event-Master.jpg
END:VEVENT
BEGIN:VEVENT
DTSTART;TZID=America/New_York:20300704T130000
DTEND;TZID=America/New_York:20300704T150000
DTSTAMP:20260420T050233
CREATED:20260206T143545Z
LAST-MODIFIED:20260206T143545Z
UID:10001885-1909400400-1909407600@decaturlegacypark.com
SUMMARY:Sustainable Landscaping Volunteer Day
DESCRIPTION:Decatur Community Habitat is transforming the front yard of Isom Cottage into an ecosystem filled with native plants\, food crops\, and\, of course\, beauty! Join them and build skills that you can take home to your own yard. Everyone is welcome! \nRegister here.
URL:https://decaturlegacypark.com/event/sustainable-landscaping-volunteer-day/2030-07-04/
LOCATION:Legacy Park\, 500 S. Columbia Drive\, Decatur\, GA\, 30030\, United States
CATEGORIES:Volunteer Opportunities
ATTACH;FMTTYPE=image/jpeg:https://decaturlegacypark.com/wp-content/uploads/2022/09/Event-Master.jpg
END:VEVENT
BEGIN:VEVENT
DTSTART;TZID=America/New_York:20300711T130000
DTEND;TZID=America/New_York:20300711T150000
DTSTAMP:20260420T050233
CREATED:20260206T143545Z
LAST-MODIFIED:20260206T143545Z
UID:10001886-1910005200-1910012400@decaturlegacypark.com
SUMMARY:Sustainable Landscaping Volunteer Day
DESCRIPTION:Decatur Community Habitat is transforming the front yard of Isom Cottage into an ecosystem filled with native plants\, food crops\, and\, of course\, beauty! Join them and build skills that you can take home to your own yard. Everyone is welcome! \nRegister here.
URL:https://decaturlegacypark.com/event/sustainable-landscaping-volunteer-day/2030-07-11/
LOCATION:Legacy Park\, 500 S. Columbia Drive\, Decatur\, GA\, 30030\, United States
CATEGORIES:Volunteer Opportunities
ATTACH;FMTTYPE=image/jpeg:https://decaturlegacypark.com/wp-content/uploads/2022/09/Event-Master.jpg
END:VEVENT
BEGIN:VEVENT
DTSTART;TZID=America/New_York:20300718T130000
DTEND;TZID=America/New_York:20300718T150000
DTSTAMP:20260420T050233
CREATED:20260206T143545Z
LAST-MODIFIED:20260206T143545Z
UID:10001887-1910610000-1910617200@decaturlegacypark.com
SUMMARY:Sustainable Landscaping Volunteer Day
DESCRIPTION:Decatur Community Habitat is transforming the front yard of Isom Cottage into an ecosystem filled with native plants\, food crops\, and\, of course\, beauty! Join them and build skills that you can take home to your own yard. Everyone is welcome! \nRegister here.
URL:https://decaturlegacypark.com/event/sustainable-landscaping-volunteer-day/2030-07-18/
LOCATION:Legacy Park\, 500 S. Columbia Drive\, Decatur\, GA\, 30030\, United States
CATEGORIES:Volunteer Opportunities
ATTACH;FMTTYPE=image/jpeg:https://decaturlegacypark.com/wp-content/uploads/2022/09/Event-Master.jpg
END:VEVENT
BEGIN:VEVENT
DTSTART;TZID=America/New_York:20300725T130000
DTEND;TZID=America/New_York:20300725T150000
DTSTAMP:20260420T050233
CREATED:20260206T143545Z
LAST-MODIFIED:20260206T143545Z
UID:10001888-1911214800-1911222000@decaturlegacypark.com
SUMMARY:Sustainable Landscaping Volunteer Day
DESCRIPTION:Decatur Community Habitat is transforming the front yard of Isom Cottage into an ecosystem filled with native plants\, food crops\, and\, of course\, beauty! Join them and build skills that you can take home to your own yard. Everyone is welcome! \nRegister here.
URL:https://decaturlegacypark.com/event/sustainable-landscaping-volunteer-day/2030-07-25/
LOCATION:Legacy Park\, 500 S. Columbia Drive\, Decatur\, GA\, 30030\, United States
CATEGORIES:Volunteer Opportunities
ATTACH;FMTTYPE=image/jpeg:https://decaturlegacypark.com/wp-content/uploads/2022/09/Event-Master.jpg
END:VEVENT
BEGIN:VEVENT
DTSTART;TZID=America/New_York:20300801T130000
DTEND;TZID=America/New_York:20300801T150000
DTSTAMP:20260420T050233
CREATED:20260206T143545Z
LAST-MODIFIED:20260206T143545Z
UID:10001889-1911819600-1911826800@decaturlegacypark.com
SUMMARY:Sustainable Landscaping Volunteer Day
DESCRIPTION:Decatur Community Habitat is transforming the front yard of Isom Cottage into an ecosystem filled with native plants\, food crops\, and\, of course\, beauty! Join them and build skills that you can take home to your own yard. Everyone is welcome! \nRegister here.
URL:https://decaturlegacypark.com/event/sustainable-landscaping-volunteer-day/2030-08-01/
LOCATION:Legacy Park\, 500 S. Columbia Drive\, Decatur\, GA\, 30030\, United States
CATEGORIES:Volunteer Opportunities
ATTACH;FMTTYPE=image/jpeg:https://decaturlegacypark.com/wp-content/uploads/2022/09/Event-Master.jpg
END:VEVENT
BEGIN:VEVENT
DTSTART;TZID=America/New_York:20300808T130000
DTEND;TZID=America/New_York:20300808T150000
DTSTAMP:20260420T050233
CREATED:20260206T143545Z
LAST-MODIFIED:20260206T143545Z
UID:10001890-1912424400-1912431600@decaturlegacypark.com
SUMMARY:Sustainable Landscaping Volunteer Day
DESCRIPTION:Decatur Community Habitat is transforming the front yard of Isom Cottage into an ecosystem filled with native plants\, food crops\, and\, of course\, beauty! Join them and build skills that you can take home to your own yard. Everyone is welcome! \nRegister here.
URL:https://decaturlegacypark.com/event/sustainable-landscaping-volunteer-day/2030-08-08/
LOCATION:Legacy Park\, 500 S. Columbia Drive\, Decatur\, GA\, 30030\, United States
CATEGORIES:Volunteer Opportunities
ATTACH;FMTTYPE=image/jpeg:https://decaturlegacypark.com/wp-content/uploads/2022/09/Event-Master.jpg
END:VEVENT
BEGIN:VEVENT
DTSTART;TZID=America/New_York:20300815T130000
DTEND;TZID=America/New_York:20300815T150000
DTSTAMP:20260420T050233
CREATED:20260206T143545Z
LAST-MODIFIED:20260206T143545Z
UID:10001891-1913029200-1913036400@decaturlegacypark.com
SUMMARY:Sustainable Landscaping Volunteer Day
DESCRIPTION:Decatur Community Habitat is transforming the front yard of Isom Cottage into an ecosystem filled with native plants\, food crops\, and\, of course\, beauty! Join them and build skills that you can take home to your own yard. Everyone is welcome! \nRegister here.
URL:https://decaturlegacypark.com/event/sustainable-landscaping-volunteer-day/2030-08-15/
LOCATION:Legacy Park\, 500 S. Columbia Drive\, Decatur\, GA\, 30030\, United States
CATEGORIES:Volunteer Opportunities
ATTACH;FMTTYPE=image/jpeg:https://decaturlegacypark.com/wp-content/uploads/2022/09/Event-Master.jpg
END:VEVENT
BEGIN:VEVENT
DTSTART;TZID=America/New_York:20300822T130000
DTEND;TZID=America/New_York:20300822T150000
DTSTAMP:20260420T050233
CREATED:20260206T143545Z
LAST-MODIFIED:20260206T143545Z
UID:10001892-1913634000-1913641200@decaturlegacypark.com
SUMMARY:Sustainable Landscaping Volunteer Day
DESCRIPTION:Decatur Community Habitat is transforming the front yard of Isom Cottage into an ecosystem filled with native plants\, food crops\, and\, of course\, beauty! Join them and build skills that you can take home to your own yard. Everyone is welcome! \nRegister here.
URL:https://decaturlegacypark.com/event/sustainable-landscaping-volunteer-day/2030-08-22/
LOCATION:Legacy Park\, 500 S. Columbia Drive\, Decatur\, GA\, 30030\, United States
CATEGORIES:Volunteer Opportunities
ATTACH;FMTTYPE=image/jpeg:https://decaturlegacypark.com/wp-content/uploads/2022/09/Event-Master.jpg
END:VEVENT
BEGIN:VEVENT
DTSTART;TZID=America/New_York:20300829T130000
DTEND;TZID=America/New_York:20300829T150000
DTSTAMP:20260420T050233
CREATED:20260206T143545Z
LAST-MODIFIED:20260206T143545Z
UID:10001893-1914238800-1914246000@decaturlegacypark.com
SUMMARY:Sustainable Landscaping Volunteer Day
DESCRIPTION:Decatur Community Habitat is transforming the front yard of Isom Cottage into an ecosystem filled with native plants\, food crops\, and\, of course\, beauty! Join them and build skills that you can take home to your own yard. Everyone is welcome! \nRegister here.
URL:https://decaturlegacypark.com/event/sustainable-landscaping-volunteer-day/2030-08-29/
LOCATION:Legacy Park\, 500 S. Columbia Drive\, Decatur\, GA\, 30030\, United States
CATEGORIES:Volunteer Opportunities
ATTACH;FMTTYPE=image/jpeg:https://decaturlegacypark.com/wp-content/uploads/2022/09/Event-Master.jpg
END:VEVENT
BEGIN:VEVENT
DTSTART;TZID=America/New_York:20300905T130000
DTEND;TZID=America/New_York:20300905T150000
DTSTAMP:20260420T050233
CREATED:20260206T143545Z
LAST-MODIFIED:20260206T143545Z
UID:10001894-1914843600-1914850800@decaturlegacypark.com
SUMMARY:Sustainable Landscaping Volunteer Day
DESCRIPTION:Decatur Community Habitat is transforming the front yard of Isom Cottage into an ecosystem filled with native plants\, food crops\, and\, of course\, beauty! Join them and build skills that you can take home to your own yard. Everyone is welcome! \nRegister here.
URL:https://decaturlegacypark.com/event/sustainable-landscaping-volunteer-day/2030-09-05/
LOCATION:Legacy Park\, 500 S. Columbia Drive\, Decatur\, GA\, 30030\, United States
CATEGORIES:Volunteer Opportunities
ATTACH;FMTTYPE=image/jpeg:https://decaturlegacypark.com/wp-content/uploads/2022/09/Event-Master.jpg
END:VEVENT
BEGIN:VEVENT
DTSTART;TZID=America/New_York:20300912T130000
DTEND;TZID=America/New_York:20300912T150000
DTSTAMP:20260420T050233
CREATED:20260206T143545Z
LAST-MODIFIED:20260206T143545Z
UID:10001895-1915448400-1915455600@decaturlegacypark.com
SUMMARY:Sustainable Landscaping Volunteer Day
DESCRIPTION:Decatur Community Habitat is transforming the front yard of Isom Cottage into an ecosystem filled with native plants\, food crops\, and\, of course\, beauty! Join them and build skills that you can take home to your own yard. Everyone is welcome! \nRegister here.
URL:https://decaturlegacypark.com/event/sustainable-landscaping-volunteer-day/2030-09-12/
LOCATION:Legacy Park\, 500 S. Columbia Drive\, Decatur\, GA\, 30030\, United States
CATEGORIES:Volunteer Opportunities
ATTACH;FMTTYPE=image/jpeg:https://decaturlegacypark.com/wp-content/uploads/2022/09/Event-Master.jpg
END:VEVENT
BEGIN:VEVENT
DTSTART;TZID=America/New_York:20300919T130000
DTEND;TZID=America/New_York:20300919T150000
DTSTAMP:20260420T050233
CREATED:20260206T143545Z
LAST-MODIFIED:20260206T143545Z
UID:10001896-1916053200-1916060400@decaturlegacypark.com
SUMMARY:Sustainable Landscaping Volunteer Day
DESCRIPTION:Decatur Community Habitat is transforming the front yard of Isom Cottage into an ecosystem filled with native plants\, food crops\, and\, of course\, beauty! Join them and build skills that you can take home to your own yard. Everyone is welcome! \nRegister here.
URL:https://decaturlegacypark.com/event/sustainable-landscaping-volunteer-day/2030-09-19/
LOCATION:Legacy Park\, 500 S. Columbia Drive\, Decatur\, GA\, 30030\, United States
CATEGORIES:Volunteer Opportunities
ATTACH;FMTTYPE=image/jpeg:https://decaturlegacypark.com/wp-content/uploads/2022/09/Event-Master.jpg
END:VEVENT
BEGIN:VEVENT
DTSTART;TZID=America/New_York:20300926T130000
DTEND;TZID=America/New_York:20300926T150000
DTSTAMP:20260420T050233
CREATED:20260206T143545Z
LAST-MODIFIED:20260206T143545Z
UID:10001897-1916658000-1916665200@decaturlegacypark.com
SUMMARY:Sustainable Landscaping Volunteer Day
DESCRIPTION:Decatur Community Habitat is transforming the front yard of Isom Cottage into an ecosystem filled with native plants\, food crops\, and\, of course\, beauty! Join them and build skills that you can take home to your own yard. Everyone is welcome! \nRegister here.
URL:https://decaturlegacypark.com/event/sustainable-landscaping-volunteer-day/2030-09-26/
LOCATION:Legacy Park\, 500 S. Columbia Drive\, Decatur\, GA\, 30030\, United States
CATEGORIES:Volunteer Opportunities
ATTACH;FMTTYPE=image/jpeg:https://decaturlegacypark.com/wp-content/uploads/2022/09/Event-Master.jpg
END:VEVENT
BEGIN:VEVENT
DTSTART;TZID=America/New_York:20301003T130000
DTEND;TZID=America/New_York:20301003T150000
DTSTAMP:20260420T050233
CREATED:20260206T143545Z
LAST-MODIFIED:20260206T143545Z
UID:10001898-1917262800-1917270000@decaturlegacypark.com
SUMMARY:Sustainable Landscaping Volunteer Day
DESCRIPTION:Decatur Community Habitat is transforming the front yard of Isom Cottage into an ecosystem filled with native plants\, food crops\, and\, of course\, beauty! Join them and build skills that you can take home to your own yard. Everyone is welcome! \nRegister here.
URL:https://decaturlegacypark.com/event/sustainable-landscaping-volunteer-day/2030-10-03/
LOCATION:Legacy Park\, 500 S. Columbia Drive\, Decatur\, GA\, 30030\, United States
CATEGORIES:Volunteer Opportunities
ATTACH;FMTTYPE=image/jpeg:https://decaturlegacypark.com/wp-content/uploads/2022/09/Event-Master.jpg
END:VEVENT
BEGIN:VEVENT
DTSTART;TZID=America/New_York:20301010T130000
DTEND;TZID=America/New_York:20301010T150000
DTSTAMP:20260420T050233
CREATED:20260206T143545Z
LAST-MODIFIED:20260206T143545Z
UID:10001899-1917867600-1917874800@decaturlegacypark.com
SUMMARY:Sustainable Landscaping Volunteer Day
DESCRIPTION:Decatur Community Habitat is transforming the front yard of Isom Cottage into an ecosystem filled with native plants\, food crops\, and\, of course\, beauty! Join them and build skills that you can take home to your own yard. Everyone is welcome! \nRegister here.
URL:https://decaturlegacypark.com/event/sustainable-landscaping-volunteer-day/2030-10-10/
LOCATION:Legacy Park\, 500 S. Columbia Drive\, Decatur\, GA\, 30030\, United States
CATEGORIES:Volunteer Opportunities
ATTACH;FMTTYPE=image/jpeg:https://decaturlegacypark.com/wp-content/uploads/2022/09/Event-Master.jpg
END:VEVENT
END:VCALENDAR