BEGIN:VCALENDAR
VERSION:2.0
PRODID:-//Decatur Legacy Park - ECPv6.15.20//NONSGML v1.0//EN
CALSCALE:GREGORIAN
METHOD:PUBLISH
X-WR-CALNAME:Decatur Legacy Park
X-ORIGINAL-URL:https://decaturlegacypark.com
X-WR-CALDESC:Events for Decatur Legacy Park
REFRESH-INTERVAL;VALUE=DURATION:PT1H
X-Robots-Tag:noindex
X-PUBLISHED-TTL:PT1H
BEGIN:VTIMEZONE
TZID:America/New_York
BEGIN:DAYLIGHT
TZOFFSETFROM:-0500
TZOFFSETTO:-0400
TZNAME:EDT
DTSTART:20280312T070000
END:DAYLIGHT
BEGIN:STANDARD
TZOFFSETFROM:-0400
TZOFFSETTO:-0500
TZNAME:EST
DTSTART:20281105T060000
END:STANDARD
BEGIN:DAYLIGHT
TZOFFSETFROM:-0500
TZOFFSETTO:-0400
TZNAME:EDT
DTSTART:20290311T070000
END:DAYLIGHT
BEGIN:STANDARD
TZOFFSETFROM:-0400
TZOFFSETTO:-0500
TZNAME:EST
DTSTART:20291104T060000
END:STANDARD
BEGIN:DAYLIGHT
TZOFFSETFROM:-0500
TZOFFSETTO:-0400
TZNAME:EDT
DTSTART:20300310T070000
END:DAYLIGHT
BEGIN:STANDARD
TZOFFSETFROM:-0400
TZOFFSETTO:-0500
TZNAME:EST
DTSTART:20301103T060000
END:STANDARD
BEGIN:DAYLIGHT
TZOFFSETFROM:-0500
TZOFFSETTO:-0400
TZNAME:EDT
DTSTART:20310309T070000
END:DAYLIGHT
BEGIN:STANDARD
TZOFFSETFROM:-0400
TZOFFSETTO:-0500
TZNAME:EST
DTSTART:20311102T060000
END:STANDARD
END:VTIMEZONE
BEGIN:VEVENT
DTSTART;TZID=America/New_York:20290712T130000
DTEND;TZID=America/New_York:20290712T150000
DTSTAMP:20260420T002658
CREATED:20260206T143545Z
LAST-MODIFIED:20260206T143545Z
UID:10001834-1878555600-1878562800@decaturlegacypark.com
SUMMARY:Sustainable Landscaping Volunteer Day
DESCRIPTION:Decatur Community Habitat is transforming the front yard of Isom Cottage into an ecosystem filled with native plants\, food crops\, and\, of course\, beauty! Join them and build skills that you can take home to your own yard. Everyone is welcome! \nRegister here.
URL:https://decaturlegacypark.com/event/sustainable-landscaping-volunteer-day/2029-07-12/
LOCATION:Legacy Park\, 500 S. Columbia Drive\, Decatur\, GA\, 30030\, United States
CATEGORIES:Volunteer Opportunities
ATTACH;FMTTYPE=image/jpeg:https://decaturlegacypark.com/wp-content/uploads/2022/09/Event-Master.jpg
END:VEVENT
BEGIN:VEVENT
DTSTART;TZID=America/New_York:20290719T130000
DTEND;TZID=America/New_York:20290719T150000
DTSTAMP:20260420T002658
CREATED:20260206T143545Z
LAST-MODIFIED:20260206T143545Z
UID:10001835-1879160400-1879167600@decaturlegacypark.com
SUMMARY:Sustainable Landscaping Volunteer Day
DESCRIPTION:Decatur Community Habitat is transforming the front yard of Isom Cottage into an ecosystem filled with native plants\, food crops\, and\, of course\, beauty! Join them and build skills that you can take home to your own yard. Everyone is welcome! \nRegister here.
URL:https://decaturlegacypark.com/event/sustainable-landscaping-volunteer-day/2029-07-19/
LOCATION:Legacy Park\, 500 S. Columbia Drive\, Decatur\, GA\, 30030\, United States
CATEGORIES:Volunteer Opportunities
ATTACH;FMTTYPE=image/jpeg:https://decaturlegacypark.com/wp-content/uploads/2022/09/Event-Master.jpg
END:VEVENT
BEGIN:VEVENT
DTSTART;TZID=America/New_York:20290726T130000
DTEND;TZID=America/New_York:20290726T150000
DTSTAMP:20260420T002658
CREATED:20260206T143545Z
LAST-MODIFIED:20260206T143545Z
UID:10001836-1879765200-1879772400@decaturlegacypark.com
SUMMARY:Sustainable Landscaping Volunteer Day
DESCRIPTION:Decatur Community Habitat is transforming the front yard of Isom Cottage into an ecosystem filled with native plants\, food crops\, and\, of course\, beauty! Join them and build skills that you can take home to your own yard. Everyone is welcome! \nRegister here.
URL:https://decaturlegacypark.com/event/sustainable-landscaping-volunteer-day/2029-07-26/
LOCATION:Legacy Park\, 500 S. Columbia Drive\, Decatur\, GA\, 30030\, United States
CATEGORIES:Volunteer Opportunities
ATTACH;FMTTYPE=image/jpeg:https://decaturlegacypark.com/wp-content/uploads/2022/09/Event-Master.jpg
END:VEVENT
BEGIN:VEVENT
DTSTART;TZID=America/New_York:20290802T130000
DTEND;TZID=America/New_York:20290802T150000
DTSTAMP:20260420T002658
CREATED:20260206T143545Z
LAST-MODIFIED:20260206T143545Z
UID:10001837-1880370000-1880377200@decaturlegacypark.com
SUMMARY:Sustainable Landscaping Volunteer Day
DESCRIPTION:Decatur Community Habitat is transforming the front yard of Isom Cottage into an ecosystem filled with native plants\, food crops\, and\, of course\, beauty! Join them and build skills that you can take home to your own yard. Everyone is welcome! \nRegister here.
URL:https://decaturlegacypark.com/event/sustainable-landscaping-volunteer-day/2029-08-02/
LOCATION:Legacy Park\, 500 S. Columbia Drive\, Decatur\, GA\, 30030\, United States
CATEGORIES:Volunteer Opportunities
ATTACH;FMTTYPE=image/jpeg:https://decaturlegacypark.com/wp-content/uploads/2022/09/Event-Master.jpg
END:VEVENT
BEGIN:VEVENT
DTSTART;TZID=America/New_York:20290809T130000
DTEND;TZID=America/New_York:20290809T150000
DTSTAMP:20260420T002658
CREATED:20260206T143545Z
LAST-MODIFIED:20260206T143545Z
UID:10001838-1880974800-1880982000@decaturlegacypark.com
SUMMARY:Sustainable Landscaping Volunteer Day
DESCRIPTION:Decatur Community Habitat is transforming the front yard of Isom Cottage into an ecosystem filled with native plants\, food crops\, and\, of course\, beauty! Join them and build skills that you can take home to your own yard. Everyone is welcome! \nRegister here.
URL:https://decaturlegacypark.com/event/sustainable-landscaping-volunteer-day/2029-08-09/
LOCATION:Legacy Park\, 500 S. Columbia Drive\, Decatur\, GA\, 30030\, United States
CATEGORIES:Volunteer Opportunities
ATTACH;FMTTYPE=image/jpeg:https://decaturlegacypark.com/wp-content/uploads/2022/09/Event-Master.jpg
END:VEVENT
BEGIN:VEVENT
DTSTART;TZID=America/New_York:20290816T130000
DTEND;TZID=America/New_York:20290816T150000
DTSTAMP:20260420T002658
CREATED:20260206T143545Z
LAST-MODIFIED:20260206T143545Z
UID:10001839-1881579600-1881586800@decaturlegacypark.com
SUMMARY:Sustainable Landscaping Volunteer Day
DESCRIPTION:Decatur Community Habitat is transforming the front yard of Isom Cottage into an ecosystem filled with native plants\, food crops\, and\, of course\, beauty! Join them and build skills that you can take home to your own yard. Everyone is welcome! \nRegister here.
URL:https://decaturlegacypark.com/event/sustainable-landscaping-volunteer-day/2029-08-16/
LOCATION:Legacy Park\, 500 S. Columbia Drive\, Decatur\, GA\, 30030\, United States
CATEGORIES:Volunteer Opportunities
ATTACH;FMTTYPE=image/jpeg:https://decaturlegacypark.com/wp-content/uploads/2022/09/Event-Master.jpg
END:VEVENT
BEGIN:VEVENT
DTSTART;TZID=America/New_York:20290823T130000
DTEND;TZID=America/New_York:20290823T150000
DTSTAMP:20260420T002658
CREATED:20260206T143545Z
LAST-MODIFIED:20260206T143545Z
UID:10001840-1882184400-1882191600@decaturlegacypark.com
SUMMARY:Sustainable Landscaping Volunteer Day
DESCRIPTION:Decatur Community Habitat is transforming the front yard of Isom Cottage into an ecosystem filled with native plants\, food crops\, and\, of course\, beauty! Join them and build skills that you can take home to your own yard. Everyone is welcome! \nRegister here.
URL:https://decaturlegacypark.com/event/sustainable-landscaping-volunteer-day/2029-08-23/
LOCATION:Legacy Park\, 500 S. Columbia Drive\, Decatur\, GA\, 30030\, United States
CATEGORIES:Volunteer Opportunities
ATTACH;FMTTYPE=image/jpeg:https://decaturlegacypark.com/wp-content/uploads/2022/09/Event-Master.jpg
END:VEVENT
BEGIN:VEVENT
DTSTART;TZID=America/New_York:20290830T130000
DTEND;TZID=America/New_York:20290830T150000
DTSTAMP:20260420T002658
CREATED:20260206T143545Z
LAST-MODIFIED:20260206T143545Z
UID:10001841-1882789200-1882796400@decaturlegacypark.com
SUMMARY:Sustainable Landscaping Volunteer Day
DESCRIPTION:Decatur Community Habitat is transforming the front yard of Isom Cottage into an ecosystem filled with native plants\, food crops\, and\, of course\, beauty! Join them and build skills that you can take home to your own yard. Everyone is welcome! \nRegister here.
URL:https://decaturlegacypark.com/event/sustainable-landscaping-volunteer-day/2029-08-30/
LOCATION:Legacy Park\, 500 S. Columbia Drive\, Decatur\, GA\, 30030\, United States
CATEGORIES:Volunteer Opportunities
ATTACH;FMTTYPE=image/jpeg:https://decaturlegacypark.com/wp-content/uploads/2022/09/Event-Master.jpg
END:VEVENT
BEGIN:VEVENT
DTSTART;TZID=America/New_York:20290906T130000
DTEND;TZID=America/New_York:20290906T150000
DTSTAMP:20260420T002658
CREATED:20260206T143545Z
LAST-MODIFIED:20260206T143545Z
UID:10001842-1883394000-1883401200@decaturlegacypark.com
SUMMARY:Sustainable Landscaping Volunteer Day
DESCRIPTION:Decatur Community Habitat is transforming the front yard of Isom Cottage into an ecosystem filled with native plants\, food crops\, and\, of course\, beauty! Join them and build skills that you can take home to your own yard. Everyone is welcome! \nRegister here.
URL:https://decaturlegacypark.com/event/sustainable-landscaping-volunteer-day/2029-09-06/
LOCATION:Legacy Park\, 500 S. Columbia Drive\, Decatur\, GA\, 30030\, United States
CATEGORIES:Volunteer Opportunities
ATTACH;FMTTYPE=image/jpeg:https://decaturlegacypark.com/wp-content/uploads/2022/09/Event-Master.jpg
END:VEVENT
BEGIN:VEVENT
DTSTART;TZID=America/New_York:20290913T130000
DTEND;TZID=America/New_York:20290913T150000
DTSTAMP:20260420T002658
CREATED:20260206T143545Z
LAST-MODIFIED:20260206T143545Z
UID:10001843-1883998800-1884006000@decaturlegacypark.com
SUMMARY:Sustainable Landscaping Volunteer Day
DESCRIPTION:Decatur Community Habitat is transforming the front yard of Isom Cottage into an ecosystem filled with native plants\, food crops\, and\, of course\, beauty! Join them and build skills that you can take home to your own yard. Everyone is welcome! \nRegister here.
URL:https://decaturlegacypark.com/event/sustainable-landscaping-volunteer-day/2029-09-13/
LOCATION:Legacy Park\, 500 S. Columbia Drive\, Decatur\, GA\, 30030\, United States
CATEGORIES:Volunteer Opportunities
ATTACH;FMTTYPE=image/jpeg:https://decaturlegacypark.com/wp-content/uploads/2022/09/Event-Master.jpg
END:VEVENT
BEGIN:VEVENT
DTSTART;TZID=America/New_York:20290920T130000
DTEND;TZID=America/New_York:20290920T150000
DTSTAMP:20260420T002658
CREATED:20260206T143545Z
LAST-MODIFIED:20260206T143545Z
UID:10001844-1884603600-1884610800@decaturlegacypark.com
SUMMARY:Sustainable Landscaping Volunteer Day
DESCRIPTION:Decatur Community Habitat is transforming the front yard of Isom Cottage into an ecosystem filled with native plants\, food crops\, and\, of course\, beauty! Join them and build skills that you can take home to your own yard. Everyone is welcome! \nRegister here.
URL:https://decaturlegacypark.com/event/sustainable-landscaping-volunteer-day/2029-09-20/
LOCATION:Legacy Park\, 500 S. Columbia Drive\, Decatur\, GA\, 30030\, United States
CATEGORIES:Volunteer Opportunities
ATTACH;FMTTYPE=image/jpeg:https://decaturlegacypark.com/wp-content/uploads/2022/09/Event-Master.jpg
END:VEVENT
BEGIN:VEVENT
DTSTART;TZID=America/New_York:20290927T130000
DTEND;TZID=America/New_York:20290927T150000
DTSTAMP:20260420T002658
CREATED:20260206T143545Z
LAST-MODIFIED:20260206T143545Z
UID:10001845-1885208400-1885215600@decaturlegacypark.com
SUMMARY:Sustainable Landscaping Volunteer Day
DESCRIPTION:Decatur Community Habitat is transforming the front yard of Isom Cottage into an ecosystem filled with native plants\, food crops\, and\, of course\, beauty! Join them and build skills that you can take home to your own yard. Everyone is welcome! \nRegister here.
URL:https://decaturlegacypark.com/event/sustainable-landscaping-volunteer-day/2029-09-27/
LOCATION:Legacy Park\, 500 S. Columbia Drive\, Decatur\, GA\, 30030\, United States
CATEGORIES:Volunteer Opportunities
ATTACH;FMTTYPE=image/jpeg:https://decaturlegacypark.com/wp-content/uploads/2022/09/Event-Master.jpg
END:VEVENT
BEGIN:VEVENT
DTSTART;TZID=America/New_York:20291004T130000
DTEND;TZID=America/New_York:20291004T150000
DTSTAMP:20260420T002658
CREATED:20260206T143545Z
LAST-MODIFIED:20260206T143545Z
UID:10001846-1885813200-1885820400@decaturlegacypark.com
SUMMARY:Sustainable Landscaping Volunteer Day
DESCRIPTION:Decatur Community Habitat is transforming the front yard of Isom Cottage into an ecosystem filled with native plants\, food crops\, and\, of course\, beauty! Join them and build skills that you can take home to your own yard. Everyone is welcome! \nRegister here.
URL:https://decaturlegacypark.com/event/sustainable-landscaping-volunteer-day/2029-10-04/
LOCATION:Legacy Park\, 500 S. Columbia Drive\, Decatur\, GA\, 30030\, United States
CATEGORIES:Volunteer Opportunities
ATTACH;FMTTYPE=image/jpeg:https://decaturlegacypark.com/wp-content/uploads/2022/09/Event-Master.jpg
END:VEVENT
BEGIN:VEVENT
DTSTART;TZID=America/New_York:20291011T130000
DTEND;TZID=America/New_York:20291011T150000
DTSTAMP:20260420T002658
CREATED:20260206T143545Z
LAST-MODIFIED:20260206T143545Z
UID:10001847-1886418000-1886425200@decaturlegacypark.com
SUMMARY:Sustainable Landscaping Volunteer Day
DESCRIPTION:Decatur Community Habitat is transforming the front yard of Isom Cottage into an ecosystem filled with native plants\, food crops\, and\, of course\, beauty! Join them and build skills that you can take home to your own yard. Everyone is welcome! \nRegister here.
URL:https://decaturlegacypark.com/event/sustainable-landscaping-volunteer-day/2029-10-11/
LOCATION:Legacy Park\, 500 S. Columbia Drive\, Decatur\, GA\, 30030\, United States
CATEGORIES:Volunteer Opportunities
ATTACH;FMTTYPE=image/jpeg:https://decaturlegacypark.com/wp-content/uploads/2022/09/Event-Master.jpg
END:VEVENT
BEGIN:VEVENT
DTSTART;TZID=America/New_York:20291018T130000
DTEND;TZID=America/New_York:20291018T150000
DTSTAMP:20260420T002658
CREATED:20260206T143545Z
LAST-MODIFIED:20260206T143545Z
UID:10001848-1887022800-1887030000@decaturlegacypark.com
SUMMARY:Sustainable Landscaping Volunteer Day
DESCRIPTION:Decatur Community Habitat is transforming the front yard of Isom Cottage into an ecosystem filled with native plants\, food crops\, and\, of course\, beauty! Join them and build skills that you can take home to your own yard. Everyone is welcome! \nRegister here.
URL:https://decaturlegacypark.com/event/sustainable-landscaping-volunteer-day/2029-10-18/
LOCATION:Legacy Park\, 500 S. Columbia Drive\, Decatur\, GA\, 30030\, United States
CATEGORIES:Volunteer Opportunities
ATTACH;FMTTYPE=image/jpeg:https://decaturlegacypark.com/wp-content/uploads/2022/09/Event-Master.jpg
END:VEVENT
BEGIN:VEVENT
DTSTART;TZID=America/New_York:20291025T130000
DTEND;TZID=America/New_York:20291025T150000
DTSTAMP:20260420T002658
CREATED:20260206T143545Z
LAST-MODIFIED:20260206T143545Z
UID:10001849-1887627600-1887634800@decaturlegacypark.com
SUMMARY:Sustainable Landscaping Volunteer Day
DESCRIPTION:Decatur Community Habitat is transforming the front yard of Isom Cottage into an ecosystem filled with native plants\, food crops\, and\, of course\, beauty! Join them and build skills that you can take home to your own yard. Everyone is welcome! \nRegister here.
URL:https://decaturlegacypark.com/event/sustainable-landscaping-volunteer-day/2029-10-25/
LOCATION:Legacy Park\, 500 S. Columbia Drive\, Decatur\, GA\, 30030\, United States
CATEGORIES:Volunteer Opportunities
ATTACH;FMTTYPE=image/jpeg:https://decaturlegacypark.com/wp-content/uploads/2022/09/Event-Master.jpg
END:VEVENT
BEGIN:VEVENT
DTSTART;TZID=America/New_York:20291101T130000
DTEND;TZID=America/New_York:20291101T150000
DTSTAMP:20260420T002658
CREATED:20260206T143545Z
LAST-MODIFIED:20260206T143545Z
UID:10001850-1888232400-1888239600@decaturlegacypark.com
SUMMARY:Sustainable Landscaping Volunteer Day
DESCRIPTION:Decatur Community Habitat is transforming the front yard of Isom Cottage into an ecosystem filled with native plants\, food crops\, and\, of course\, beauty! Join them and build skills that you can take home to your own yard. Everyone is welcome! \nRegister here.
URL:https://decaturlegacypark.com/event/sustainable-landscaping-volunteer-day/2029-11-01/
LOCATION:Legacy Park\, 500 S. Columbia Drive\, Decatur\, GA\, 30030\, United States
CATEGORIES:Volunteer Opportunities
ATTACH;FMTTYPE=image/jpeg:https://decaturlegacypark.com/wp-content/uploads/2022/09/Event-Master.jpg
END:VEVENT
BEGIN:VEVENT
DTSTART;TZID=America/New_York:20291108T130000
DTEND;TZID=America/New_York:20291108T150000
DTSTAMP:20260420T002658
CREATED:20260206T143545Z
LAST-MODIFIED:20260206T143545Z
UID:10001851-1888837200-1888844400@decaturlegacypark.com
SUMMARY:Sustainable Landscaping Volunteer Day
DESCRIPTION:Decatur Community Habitat is transforming the front yard of Isom Cottage into an ecosystem filled with native plants\, food crops\, and\, of course\, beauty! Join them and build skills that you can take home to your own yard. Everyone is welcome! \nRegister here.
URL:https://decaturlegacypark.com/event/sustainable-landscaping-volunteer-day/2029-11-08/
LOCATION:Legacy Park\, 500 S. Columbia Drive\, Decatur\, GA\, 30030\, United States
CATEGORIES:Volunteer Opportunities
ATTACH;FMTTYPE=image/jpeg:https://decaturlegacypark.com/wp-content/uploads/2022/09/Event-Master.jpg
END:VEVENT
BEGIN:VEVENT
DTSTART;TZID=America/New_York:20291115T130000
DTEND;TZID=America/New_York:20291115T150000
DTSTAMP:20260420T002658
CREATED:20260206T143545Z
LAST-MODIFIED:20260206T143545Z
UID:10001852-1889442000-1889449200@decaturlegacypark.com
SUMMARY:Sustainable Landscaping Volunteer Day
DESCRIPTION:Decatur Community Habitat is transforming the front yard of Isom Cottage into an ecosystem filled with native plants\, food crops\, and\, of course\, beauty! Join them and build skills that you can take home to your own yard. Everyone is welcome! \nRegister here.
URL:https://decaturlegacypark.com/event/sustainable-landscaping-volunteer-day/2029-11-15/
LOCATION:Legacy Park\, 500 S. Columbia Drive\, Decatur\, GA\, 30030\, United States
CATEGORIES:Volunteer Opportunities
ATTACH;FMTTYPE=image/jpeg:https://decaturlegacypark.com/wp-content/uploads/2022/09/Event-Master.jpg
END:VEVENT
BEGIN:VEVENT
DTSTART;TZID=America/New_York:20291122T130000
DTEND;TZID=America/New_York:20291122T150000
DTSTAMP:20260420T002658
CREATED:20260206T143545Z
LAST-MODIFIED:20260206T143545Z
UID:10001853-1890046800-1890054000@decaturlegacypark.com
SUMMARY:Sustainable Landscaping Volunteer Day
DESCRIPTION:Decatur Community Habitat is transforming the front yard of Isom Cottage into an ecosystem filled with native plants\, food crops\, and\, of course\, beauty! Join them and build skills that you can take home to your own yard. Everyone is welcome! \nRegister here.
URL:https://decaturlegacypark.com/event/sustainable-landscaping-volunteer-day/2029-11-22/
LOCATION:Legacy Park\, 500 S. Columbia Drive\, Decatur\, GA\, 30030\, United States
CATEGORIES:Volunteer Opportunities
ATTACH;FMTTYPE=image/jpeg:https://decaturlegacypark.com/wp-content/uploads/2022/09/Event-Master.jpg
END:VEVENT
BEGIN:VEVENT
DTSTART;TZID=America/New_York:20291129T130000
DTEND;TZID=America/New_York:20291129T150000
DTSTAMP:20260420T002658
CREATED:20260206T143545Z
LAST-MODIFIED:20260206T143545Z
UID:10001854-1890651600-1890658800@decaturlegacypark.com
SUMMARY:Sustainable Landscaping Volunteer Day
DESCRIPTION:Decatur Community Habitat is transforming the front yard of Isom Cottage into an ecosystem filled with native plants\, food crops\, and\, of course\, beauty! Join them and build skills that you can take home to your own yard. Everyone is welcome! \nRegister here.
URL:https://decaturlegacypark.com/event/sustainable-landscaping-volunteer-day/2029-11-29/
LOCATION:Legacy Park\, 500 S. Columbia Drive\, Decatur\, GA\, 30030\, United States
CATEGORIES:Volunteer Opportunities
ATTACH;FMTTYPE=image/jpeg:https://decaturlegacypark.com/wp-content/uploads/2022/09/Event-Master.jpg
END:VEVENT
BEGIN:VEVENT
DTSTART;TZID=America/New_York:20291206T130000
DTEND;TZID=America/New_York:20291206T150000
DTSTAMP:20260420T002658
CREATED:20260206T143545Z
LAST-MODIFIED:20260206T143545Z
UID:10001855-1891256400-1891263600@decaturlegacypark.com
SUMMARY:Sustainable Landscaping Volunteer Day
DESCRIPTION:Decatur Community Habitat is transforming the front yard of Isom Cottage into an ecosystem filled with native plants\, food crops\, and\, of course\, beauty! Join them and build skills that you can take home to your own yard. Everyone is welcome! \nRegister here.
URL:https://decaturlegacypark.com/event/sustainable-landscaping-volunteer-day/2029-12-06/
LOCATION:Legacy Park\, 500 S. Columbia Drive\, Decatur\, GA\, 30030\, United States
CATEGORIES:Volunteer Opportunities
ATTACH;FMTTYPE=image/jpeg:https://decaturlegacypark.com/wp-content/uploads/2022/09/Event-Master.jpg
END:VEVENT
BEGIN:VEVENT
DTSTART;TZID=America/New_York:20291213T130000
DTEND;TZID=America/New_York:20291213T150000
DTSTAMP:20260420T002658
CREATED:20260206T143545Z
LAST-MODIFIED:20260206T143545Z
UID:10001856-1891861200-1891868400@decaturlegacypark.com
SUMMARY:Sustainable Landscaping Volunteer Day
DESCRIPTION:Decatur Community Habitat is transforming the front yard of Isom Cottage into an ecosystem filled with native plants\, food crops\, and\, of course\, beauty! Join them and build skills that you can take home to your own yard. Everyone is welcome! \nRegister here.
URL:https://decaturlegacypark.com/event/sustainable-landscaping-volunteer-day/2029-12-13/
LOCATION:Legacy Park\, 500 S. Columbia Drive\, Decatur\, GA\, 30030\, United States
CATEGORIES:Volunteer Opportunities
ATTACH;FMTTYPE=image/jpeg:https://decaturlegacypark.com/wp-content/uploads/2022/09/Event-Master.jpg
END:VEVENT
BEGIN:VEVENT
DTSTART;TZID=America/New_York:20291220T130000
DTEND;TZID=America/New_York:20291220T150000
DTSTAMP:20260420T002658
CREATED:20260206T143545Z
LAST-MODIFIED:20260206T143545Z
UID:10001857-1892466000-1892473200@decaturlegacypark.com
SUMMARY:Sustainable Landscaping Volunteer Day
DESCRIPTION:Decatur Community Habitat is transforming the front yard of Isom Cottage into an ecosystem filled with native plants\, food crops\, and\, of course\, beauty! Join them and build skills that you can take home to your own yard. Everyone is welcome! \nRegister here.
URL:https://decaturlegacypark.com/event/sustainable-landscaping-volunteer-day/2029-12-20/
LOCATION:Legacy Park\, 500 S. Columbia Drive\, Decatur\, GA\, 30030\, United States
CATEGORIES:Volunteer Opportunities
ATTACH;FMTTYPE=image/jpeg:https://decaturlegacypark.com/wp-content/uploads/2022/09/Event-Master.jpg
END:VEVENT
BEGIN:VEVENT
DTSTART;TZID=America/New_York:20291227T130000
DTEND;TZID=America/New_York:20291227T150000
DTSTAMP:20260420T002658
CREATED:20260206T143545Z
LAST-MODIFIED:20260206T143545Z
UID:10001858-1893070800-1893078000@decaturlegacypark.com
SUMMARY:Sustainable Landscaping Volunteer Day
DESCRIPTION:Decatur Community Habitat is transforming the front yard of Isom Cottage into an ecosystem filled with native plants\, food crops\, and\, of course\, beauty! Join them and build skills that you can take home to your own yard. Everyone is welcome! \nRegister here.
URL:https://decaturlegacypark.com/event/sustainable-landscaping-volunteer-day/2029-12-27/
LOCATION:Legacy Park\, 500 S. Columbia Drive\, Decatur\, GA\, 30030\, United States
CATEGORIES:Volunteer Opportunities
ATTACH;FMTTYPE=image/jpeg:https://decaturlegacypark.com/wp-content/uploads/2022/09/Event-Master.jpg
END:VEVENT
BEGIN:VEVENT
DTSTART;TZID=America/New_York:20300103T130000
DTEND;TZID=America/New_York:20300103T150000
DTSTAMP:20260420T002658
CREATED:20260206T143545Z
LAST-MODIFIED:20260206T143545Z
UID:10001859-1893675600-1893682800@decaturlegacypark.com
SUMMARY:Sustainable Landscaping Volunteer Day
DESCRIPTION:Decatur Community Habitat is transforming the front yard of Isom Cottage into an ecosystem filled with native plants\, food crops\, and\, of course\, beauty! Join them and build skills that you can take home to your own yard. Everyone is welcome! \nRegister here.
URL:https://decaturlegacypark.com/event/sustainable-landscaping-volunteer-day/2030-01-03/
LOCATION:Legacy Park\, 500 S. Columbia Drive\, Decatur\, GA\, 30030\, United States
CATEGORIES:Volunteer Opportunities
ATTACH;FMTTYPE=image/jpeg:https://decaturlegacypark.com/wp-content/uploads/2022/09/Event-Master.jpg
END:VEVENT
BEGIN:VEVENT
DTSTART;TZID=America/New_York:20300110T130000
DTEND;TZID=America/New_York:20300110T150000
DTSTAMP:20260420T002658
CREATED:20260206T143545Z
LAST-MODIFIED:20260206T143545Z
UID:10001860-1894280400-1894287600@decaturlegacypark.com
SUMMARY:Sustainable Landscaping Volunteer Day
DESCRIPTION:Decatur Community Habitat is transforming the front yard of Isom Cottage into an ecosystem filled with native plants\, food crops\, and\, of course\, beauty! Join them and build skills that you can take home to your own yard. Everyone is welcome! \nRegister here.
URL:https://decaturlegacypark.com/event/sustainable-landscaping-volunteer-day/2030-01-10/
LOCATION:Legacy Park\, 500 S. Columbia Drive\, Decatur\, GA\, 30030\, United States
CATEGORIES:Volunteer Opportunities
ATTACH;FMTTYPE=image/jpeg:https://decaturlegacypark.com/wp-content/uploads/2022/09/Event-Master.jpg
END:VEVENT
BEGIN:VEVENT
DTSTART;TZID=America/New_York:20300117T130000
DTEND;TZID=America/New_York:20300117T150000
DTSTAMP:20260420T002658
CREATED:20260206T143545Z
LAST-MODIFIED:20260206T143545Z
UID:10001861-1894885200-1894892400@decaturlegacypark.com
SUMMARY:Sustainable Landscaping Volunteer Day
DESCRIPTION:Decatur Community Habitat is transforming the front yard of Isom Cottage into an ecosystem filled with native plants\, food crops\, and\, of course\, beauty! Join them and build skills that you can take home to your own yard. Everyone is welcome! \nRegister here.
URL:https://decaturlegacypark.com/event/sustainable-landscaping-volunteer-day/2030-01-17/
LOCATION:Legacy Park\, 500 S. Columbia Drive\, Decatur\, GA\, 30030\, United States
CATEGORIES:Volunteer Opportunities
ATTACH;FMTTYPE=image/jpeg:https://decaturlegacypark.com/wp-content/uploads/2022/09/Event-Master.jpg
END:VEVENT
BEGIN:VEVENT
DTSTART;TZID=America/New_York:20300124T130000
DTEND;TZID=America/New_York:20300124T150000
DTSTAMP:20260420T002658
CREATED:20260206T143545Z
LAST-MODIFIED:20260206T143545Z
UID:10001862-1895490000-1895497200@decaturlegacypark.com
SUMMARY:Sustainable Landscaping Volunteer Day
DESCRIPTION:Decatur Community Habitat is transforming the front yard of Isom Cottage into an ecosystem filled with native plants\, food crops\, and\, of course\, beauty! Join them and build skills that you can take home to your own yard. Everyone is welcome! \nRegister here.
URL:https://decaturlegacypark.com/event/sustainable-landscaping-volunteer-day/2030-01-24/
LOCATION:Legacy Park\, 500 S. Columbia Drive\, Decatur\, GA\, 30030\, United States
CATEGORIES:Volunteer Opportunities
ATTACH;FMTTYPE=image/jpeg:https://decaturlegacypark.com/wp-content/uploads/2022/09/Event-Master.jpg
END:VEVENT
BEGIN:VEVENT
DTSTART;TZID=America/New_York:20300131T130000
DTEND;TZID=America/New_York:20300131T150000
DTSTAMP:20260420T002658
CREATED:20260206T143545Z
LAST-MODIFIED:20260206T143545Z
UID:10001863-1896094800-1896102000@decaturlegacypark.com
SUMMARY:Sustainable Landscaping Volunteer Day
DESCRIPTION:Decatur Community Habitat is transforming the front yard of Isom Cottage into an ecosystem filled with native plants\, food crops\, and\, of course\, beauty! Join them and build skills that you can take home to your own yard. Everyone is welcome! \nRegister here.
URL:https://decaturlegacypark.com/event/sustainable-landscaping-volunteer-day/2030-01-31/
LOCATION:Legacy Park\, 500 S. Columbia Drive\, Decatur\, GA\, 30030\, United States
CATEGORIES:Volunteer Opportunities
ATTACH;FMTTYPE=image/jpeg:https://decaturlegacypark.com/wp-content/uploads/2022/09/Event-Master.jpg
END:VEVENT
END:VCALENDAR