BEGIN:VCALENDAR
VERSION:2.0
PRODID:-//Decatur Legacy Park - ECPv6.15.20//NONSGML v1.0//EN
CALSCALE:GREGORIAN
METHOD:PUBLISH
X-WR-CALNAME:Decatur Legacy Park
X-ORIGINAL-URL:https://decaturlegacypark.com
X-WR-CALDESC:Events for Decatur Legacy Park
REFRESH-INTERVAL;VALUE=DURATION:PT1H
X-Robots-Tag:noindex
X-PUBLISHED-TTL:PT1H
BEGIN:VTIMEZONE
TZID:America/New_York
BEGIN:DAYLIGHT
TZOFFSETFROM:-0500
TZOFFSETTO:-0400
TZNAME:EDT
DTSTART:20270314T070000
END:DAYLIGHT
BEGIN:STANDARD
TZOFFSETFROM:-0400
TZOFFSETTO:-0500
TZNAME:EST
DTSTART:20271107T060000
END:STANDARD
BEGIN:DAYLIGHT
TZOFFSETFROM:-0500
TZOFFSETTO:-0400
TZNAME:EDT
DTSTART:20280312T070000
END:DAYLIGHT
BEGIN:STANDARD
TZOFFSETFROM:-0400
TZOFFSETTO:-0500
TZNAME:EST
DTSTART:20281105T060000
END:STANDARD
BEGIN:DAYLIGHT
TZOFFSETFROM:-0500
TZOFFSETTO:-0400
TZNAME:EDT
DTSTART:20290311T070000
END:DAYLIGHT
BEGIN:STANDARD
TZOFFSETFROM:-0400
TZOFFSETTO:-0500
TZNAME:EST
DTSTART:20291104T060000
END:STANDARD
BEGIN:DAYLIGHT
TZOFFSETFROM:-0500
TZOFFSETTO:-0400
TZNAME:EDT
DTSTART:20300310T070000
END:DAYLIGHT
BEGIN:STANDARD
TZOFFSETFROM:-0400
TZOFFSETTO:-0500
TZNAME:EST
DTSTART:20301103T060000
END:STANDARD
END:VTIMEZONE
BEGIN:VEVENT
DTSTART;TZID=America/New_York:20280810T130000
DTEND;TZID=America/New_York:20280810T150000
DTSTAMP:20260419T182120
CREATED:20260206T143545Z
LAST-MODIFIED:20260206T143545Z
UID:10001786-1849525200-1849532400@decaturlegacypark.com
SUMMARY:Sustainable Landscaping Volunteer Day
DESCRIPTION:Decatur Community Habitat is transforming the front yard of Isom Cottage into an ecosystem filled with native plants\, food crops\, and\, of course\, beauty! Join them and build skills that you can take home to your own yard. Everyone is welcome! \nRegister here.
URL:https://decaturlegacypark.com/event/sustainable-landscaping-volunteer-day/2028-08-10/
LOCATION:Legacy Park\, 500 S. Columbia Drive\, Decatur\, GA\, 30030\, United States
CATEGORIES:Volunteer Opportunities
ATTACH;FMTTYPE=image/jpeg:https://decaturlegacypark.com/wp-content/uploads/2022/09/Event-Master.jpg
END:VEVENT
BEGIN:VEVENT
DTSTART;TZID=America/New_York:20280817T130000
DTEND;TZID=America/New_York:20280817T150000
DTSTAMP:20260419T182120
CREATED:20260206T143545Z
LAST-MODIFIED:20260206T143545Z
UID:10001787-1850130000-1850137200@decaturlegacypark.com
SUMMARY:Sustainable Landscaping Volunteer Day
DESCRIPTION:Decatur Community Habitat is transforming the front yard of Isom Cottage into an ecosystem filled with native plants\, food crops\, and\, of course\, beauty! Join them and build skills that you can take home to your own yard. Everyone is welcome! \nRegister here.
URL:https://decaturlegacypark.com/event/sustainable-landscaping-volunteer-day/2028-08-17/
LOCATION:Legacy Park\, 500 S. Columbia Drive\, Decatur\, GA\, 30030\, United States
CATEGORIES:Volunteer Opportunities
ATTACH;FMTTYPE=image/jpeg:https://decaturlegacypark.com/wp-content/uploads/2022/09/Event-Master.jpg
END:VEVENT
BEGIN:VEVENT
DTSTART;TZID=America/New_York:20280824T130000
DTEND;TZID=America/New_York:20280824T150000
DTSTAMP:20260419T182120
CREATED:20260206T143545Z
LAST-MODIFIED:20260206T143545Z
UID:10001788-1850734800-1850742000@decaturlegacypark.com
SUMMARY:Sustainable Landscaping Volunteer Day
DESCRIPTION:Decatur Community Habitat is transforming the front yard of Isom Cottage into an ecosystem filled with native plants\, food crops\, and\, of course\, beauty! Join them and build skills that you can take home to your own yard. Everyone is welcome! \nRegister here.
URL:https://decaturlegacypark.com/event/sustainable-landscaping-volunteer-day/2028-08-24/
LOCATION:Legacy Park\, 500 S. Columbia Drive\, Decatur\, GA\, 30030\, United States
CATEGORIES:Volunteer Opportunities
ATTACH;FMTTYPE=image/jpeg:https://decaturlegacypark.com/wp-content/uploads/2022/09/Event-Master.jpg
END:VEVENT
BEGIN:VEVENT
DTSTART;TZID=America/New_York:20280831T130000
DTEND;TZID=America/New_York:20280831T150000
DTSTAMP:20260419T182120
CREATED:20260206T143545Z
LAST-MODIFIED:20260206T143545Z
UID:10001789-1851339600-1851346800@decaturlegacypark.com
SUMMARY:Sustainable Landscaping Volunteer Day
DESCRIPTION:Decatur Community Habitat is transforming the front yard of Isom Cottage into an ecosystem filled with native plants\, food crops\, and\, of course\, beauty! Join them and build skills that you can take home to your own yard. Everyone is welcome! \nRegister here.
URL:https://decaturlegacypark.com/event/sustainable-landscaping-volunteer-day/2028-08-31/
LOCATION:Legacy Park\, 500 S. Columbia Drive\, Decatur\, GA\, 30030\, United States
CATEGORIES:Volunteer Opportunities
ATTACH;FMTTYPE=image/jpeg:https://decaturlegacypark.com/wp-content/uploads/2022/09/Event-Master.jpg
END:VEVENT
BEGIN:VEVENT
DTSTART;TZID=America/New_York:20280907T130000
DTEND;TZID=America/New_York:20280907T150000
DTSTAMP:20260419T182120
CREATED:20260206T143545Z
LAST-MODIFIED:20260206T143545Z
UID:10001790-1851944400-1851951600@decaturlegacypark.com
SUMMARY:Sustainable Landscaping Volunteer Day
DESCRIPTION:Decatur Community Habitat is transforming the front yard of Isom Cottage into an ecosystem filled with native plants\, food crops\, and\, of course\, beauty! Join them and build skills that you can take home to your own yard. Everyone is welcome! \nRegister here.
URL:https://decaturlegacypark.com/event/sustainable-landscaping-volunteer-day/2028-09-07/
LOCATION:Legacy Park\, 500 S. Columbia Drive\, Decatur\, GA\, 30030\, United States
CATEGORIES:Volunteer Opportunities
ATTACH;FMTTYPE=image/jpeg:https://decaturlegacypark.com/wp-content/uploads/2022/09/Event-Master.jpg
END:VEVENT
BEGIN:VEVENT
DTSTART;TZID=America/New_York:20280914T130000
DTEND;TZID=America/New_York:20280914T150000
DTSTAMP:20260419T182120
CREATED:20260206T143545Z
LAST-MODIFIED:20260206T143545Z
UID:10001791-1852549200-1852556400@decaturlegacypark.com
SUMMARY:Sustainable Landscaping Volunteer Day
DESCRIPTION:Decatur Community Habitat is transforming the front yard of Isom Cottage into an ecosystem filled with native plants\, food crops\, and\, of course\, beauty! Join them and build skills that you can take home to your own yard. Everyone is welcome! \nRegister here.
URL:https://decaturlegacypark.com/event/sustainable-landscaping-volunteer-day/2028-09-14/
LOCATION:Legacy Park\, 500 S. Columbia Drive\, Decatur\, GA\, 30030\, United States
CATEGORIES:Volunteer Opportunities
ATTACH;FMTTYPE=image/jpeg:https://decaturlegacypark.com/wp-content/uploads/2022/09/Event-Master.jpg
END:VEVENT
BEGIN:VEVENT
DTSTART;TZID=America/New_York:20280921T130000
DTEND;TZID=America/New_York:20280921T150000
DTSTAMP:20260419T182120
CREATED:20260206T143545Z
LAST-MODIFIED:20260206T143545Z
UID:10001792-1853154000-1853161200@decaturlegacypark.com
SUMMARY:Sustainable Landscaping Volunteer Day
DESCRIPTION:Decatur Community Habitat is transforming the front yard of Isom Cottage into an ecosystem filled with native plants\, food crops\, and\, of course\, beauty! Join them and build skills that you can take home to your own yard. Everyone is welcome! \nRegister here.
URL:https://decaturlegacypark.com/event/sustainable-landscaping-volunteer-day/2028-09-21/
LOCATION:Legacy Park\, 500 S. Columbia Drive\, Decatur\, GA\, 30030\, United States
CATEGORIES:Volunteer Opportunities
ATTACH;FMTTYPE=image/jpeg:https://decaturlegacypark.com/wp-content/uploads/2022/09/Event-Master.jpg
END:VEVENT
BEGIN:VEVENT
DTSTART;TZID=America/New_York:20280928T130000
DTEND;TZID=America/New_York:20280928T150000
DTSTAMP:20260419T182120
CREATED:20260206T143545Z
LAST-MODIFIED:20260206T143545Z
UID:10001793-1853758800-1853766000@decaturlegacypark.com
SUMMARY:Sustainable Landscaping Volunteer Day
DESCRIPTION:Decatur Community Habitat is transforming the front yard of Isom Cottage into an ecosystem filled with native plants\, food crops\, and\, of course\, beauty! Join them and build skills that you can take home to your own yard. Everyone is welcome! \nRegister here.
URL:https://decaturlegacypark.com/event/sustainable-landscaping-volunteer-day/2028-09-28/
LOCATION:Legacy Park\, 500 S. Columbia Drive\, Decatur\, GA\, 30030\, United States
CATEGORIES:Volunteer Opportunities
ATTACH;FMTTYPE=image/jpeg:https://decaturlegacypark.com/wp-content/uploads/2022/09/Event-Master.jpg
END:VEVENT
BEGIN:VEVENT
DTSTART;TZID=America/New_York:20281005T130000
DTEND;TZID=America/New_York:20281005T150000
DTSTAMP:20260419T182120
CREATED:20260206T143545Z
LAST-MODIFIED:20260206T143545Z
UID:10001794-1854363600-1854370800@decaturlegacypark.com
SUMMARY:Sustainable Landscaping Volunteer Day
DESCRIPTION:Decatur Community Habitat is transforming the front yard of Isom Cottage into an ecosystem filled with native plants\, food crops\, and\, of course\, beauty! Join them and build skills that you can take home to your own yard. Everyone is welcome! \nRegister here.
URL:https://decaturlegacypark.com/event/sustainable-landscaping-volunteer-day/2028-10-05/
LOCATION:Legacy Park\, 500 S. Columbia Drive\, Decatur\, GA\, 30030\, United States
CATEGORIES:Volunteer Opportunities
ATTACH;FMTTYPE=image/jpeg:https://decaturlegacypark.com/wp-content/uploads/2022/09/Event-Master.jpg
END:VEVENT
BEGIN:VEVENT
DTSTART;TZID=America/New_York:20281012T130000
DTEND;TZID=America/New_York:20281012T150000
DTSTAMP:20260419T182120
CREATED:20260206T143545Z
LAST-MODIFIED:20260206T143545Z
UID:10001795-1854968400-1854975600@decaturlegacypark.com
SUMMARY:Sustainable Landscaping Volunteer Day
DESCRIPTION:Decatur Community Habitat is transforming the front yard of Isom Cottage into an ecosystem filled with native plants\, food crops\, and\, of course\, beauty! Join them and build skills that you can take home to your own yard. Everyone is welcome! \nRegister here.
URL:https://decaturlegacypark.com/event/sustainable-landscaping-volunteer-day/2028-10-12/
LOCATION:Legacy Park\, 500 S. Columbia Drive\, Decatur\, GA\, 30030\, United States
CATEGORIES:Volunteer Opportunities
ATTACH;FMTTYPE=image/jpeg:https://decaturlegacypark.com/wp-content/uploads/2022/09/Event-Master.jpg
END:VEVENT
BEGIN:VEVENT
DTSTART;TZID=America/New_York:20281019T130000
DTEND;TZID=America/New_York:20281019T150000
DTSTAMP:20260419T182120
CREATED:20260206T143545Z
LAST-MODIFIED:20260206T143545Z
UID:10001796-1855573200-1855580400@decaturlegacypark.com
SUMMARY:Sustainable Landscaping Volunteer Day
DESCRIPTION:Decatur Community Habitat is transforming the front yard of Isom Cottage into an ecosystem filled with native plants\, food crops\, and\, of course\, beauty! Join them and build skills that you can take home to your own yard. Everyone is welcome! \nRegister here.
URL:https://decaturlegacypark.com/event/sustainable-landscaping-volunteer-day/2028-10-19/
LOCATION:Legacy Park\, 500 S. Columbia Drive\, Decatur\, GA\, 30030\, United States
CATEGORIES:Volunteer Opportunities
ATTACH;FMTTYPE=image/jpeg:https://decaturlegacypark.com/wp-content/uploads/2022/09/Event-Master.jpg
END:VEVENT
BEGIN:VEVENT
DTSTART;TZID=America/New_York:20281026T130000
DTEND;TZID=America/New_York:20281026T150000
DTSTAMP:20260419T182120
CREATED:20260206T143545Z
LAST-MODIFIED:20260206T143545Z
UID:10001797-1856178000-1856185200@decaturlegacypark.com
SUMMARY:Sustainable Landscaping Volunteer Day
DESCRIPTION:Decatur Community Habitat is transforming the front yard of Isom Cottage into an ecosystem filled with native plants\, food crops\, and\, of course\, beauty! Join them and build skills that you can take home to your own yard. Everyone is welcome! \nRegister here.
URL:https://decaturlegacypark.com/event/sustainable-landscaping-volunteer-day/2028-10-26/
LOCATION:Legacy Park\, 500 S. Columbia Drive\, Decatur\, GA\, 30030\, United States
CATEGORIES:Volunteer Opportunities
ATTACH;FMTTYPE=image/jpeg:https://decaturlegacypark.com/wp-content/uploads/2022/09/Event-Master.jpg
END:VEVENT
BEGIN:VEVENT
DTSTART;TZID=America/New_York:20281102T130000
DTEND;TZID=America/New_York:20281102T150000
DTSTAMP:20260419T182120
CREATED:20260206T143545Z
LAST-MODIFIED:20260206T143545Z
UID:10001798-1856782800-1856790000@decaturlegacypark.com
SUMMARY:Sustainable Landscaping Volunteer Day
DESCRIPTION:Decatur Community Habitat is transforming the front yard of Isom Cottage into an ecosystem filled with native plants\, food crops\, and\, of course\, beauty! Join them and build skills that you can take home to your own yard. Everyone is welcome! \nRegister here.
URL:https://decaturlegacypark.com/event/sustainable-landscaping-volunteer-day/2028-11-02/
LOCATION:Legacy Park\, 500 S. Columbia Drive\, Decatur\, GA\, 30030\, United States
CATEGORIES:Volunteer Opportunities
ATTACH;FMTTYPE=image/jpeg:https://decaturlegacypark.com/wp-content/uploads/2022/09/Event-Master.jpg
END:VEVENT
BEGIN:VEVENT
DTSTART;TZID=America/New_York:20281109T130000
DTEND;TZID=America/New_York:20281109T150000
DTSTAMP:20260419T182120
CREATED:20260206T143545Z
LAST-MODIFIED:20260206T143545Z
UID:10001799-1857387600-1857394800@decaturlegacypark.com
SUMMARY:Sustainable Landscaping Volunteer Day
DESCRIPTION:Decatur Community Habitat is transforming the front yard of Isom Cottage into an ecosystem filled with native plants\, food crops\, and\, of course\, beauty! Join them and build skills that you can take home to your own yard. Everyone is welcome! \nRegister here.
URL:https://decaturlegacypark.com/event/sustainable-landscaping-volunteer-day/2028-11-09/
LOCATION:Legacy Park\, 500 S. Columbia Drive\, Decatur\, GA\, 30030\, United States
CATEGORIES:Volunteer Opportunities
ATTACH;FMTTYPE=image/jpeg:https://decaturlegacypark.com/wp-content/uploads/2022/09/Event-Master.jpg
END:VEVENT
BEGIN:VEVENT
DTSTART;TZID=America/New_York:20281116T130000
DTEND;TZID=America/New_York:20281116T150000
DTSTAMP:20260419T182120
CREATED:20260206T143545Z
LAST-MODIFIED:20260206T143545Z
UID:10001800-1857992400-1857999600@decaturlegacypark.com
SUMMARY:Sustainable Landscaping Volunteer Day
DESCRIPTION:Decatur Community Habitat is transforming the front yard of Isom Cottage into an ecosystem filled with native plants\, food crops\, and\, of course\, beauty! Join them and build skills that you can take home to your own yard. Everyone is welcome! \nRegister here.
URL:https://decaturlegacypark.com/event/sustainable-landscaping-volunteer-day/2028-11-16/
LOCATION:Legacy Park\, 500 S. Columbia Drive\, Decatur\, GA\, 30030\, United States
CATEGORIES:Volunteer Opportunities
ATTACH;FMTTYPE=image/jpeg:https://decaturlegacypark.com/wp-content/uploads/2022/09/Event-Master.jpg
END:VEVENT
BEGIN:VEVENT
DTSTART;TZID=America/New_York:20281123T130000
DTEND;TZID=America/New_York:20281123T150000
DTSTAMP:20260419T182120
CREATED:20260206T143545Z
LAST-MODIFIED:20260206T143545Z
UID:10001801-1858597200-1858604400@decaturlegacypark.com
SUMMARY:Sustainable Landscaping Volunteer Day
DESCRIPTION:Decatur Community Habitat is transforming the front yard of Isom Cottage into an ecosystem filled with native plants\, food crops\, and\, of course\, beauty! Join them and build skills that you can take home to your own yard. Everyone is welcome! \nRegister here.
URL:https://decaturlegacypark.com/event/sustainable-landscaping-volunteer-day/2028-11-23/
LOCATION:Legacy Park\, 500 S. Columbia Drive\, Decatur\, GA\, 30030\, United States
CATEGORIES:Volunteer Opportunities
ATTACH;FMTTYPE=image/jpeg:https://decaturlegacypark.com/wp-content/uploads/2022/09/Event-Master.jpg
END:VEVENT
BEGIN:VEVENT
DTSTART;TZID=America/New_York:20281130T130000
DTEND;TZID=America/New_York:20281130T150000
DTSTAMP:20260419T182120
CREATED:20260206T143545Z
LAST-MODIFIED:20260206T143545Z
UID:10001802-1859202000-1859209200@decaturlegacypark.com
SUMMARY:Sustainable Landscaping Volunteer Day
DESCRIPTION:Decatur Community Habitat is transforming the front yard of Isom Cottage into an ecosystem filled with native plants\, food crops\, and\, of course\, beauty! Join them and build skills that you can take home to your own yard. Everyone is welcome! \nRegister here.
URL:https://decaturlegacypark.com/event/sustainable-landscaping-volunteer-day/2028-11-30/
LOCATION:Legacy Park\, 500 S. Columbia Drive\, Decatur\, GA\, 30030\, United States
CATEGORIES:Volunteer Opportunities
ATTACH;FMTTYPE=image/jpeg:https://decaturlegacypark.com/wp-content/uploads/2022/09/Event-Master.jpg
END:VEVENT
BEGIN:VEVENT
DTSTART;TZID=America/New_York:20281207T130000
DTEND;TZID=America/New_York:20281207T150000
DTSTAMP:20260419T182120
CREATED:20260206T143545Z
LAST-MODIFIED:20260206T143545Z
UID:10001803-1859806800-1859814000@decaturlegacypark.com
SUMMARY:Sustainable Landscaping Volunteer Day
DESCRIPTION:Decatur Community Habitat is transforming the front yard of Isom Cottage into an ecosystem filled with native plants\, food crops\, and\, of course\, beauty! Join them and build skills that you can take home to your own yard. Everyone is welcome! \nRegister here.
URL:https://decaturlegacypark.com/event/sustainable-landscaping-volunteer-day/2028-12-07/
LOCATION:Legacy Park\, 500 S. Columbia Drive\, Decatur\, GA\, 30030\, United States
CATEGORIES:Volunteer Opportunities
ATTACH;FMTTYPE=image/jpeg:https://decaturlegacypark.com/wp-content/uploads/2022/09/Event-Master.jpg
END:VEVENT
BEGIN:VEVENT
DTSTART;TZID=America/New_York:20281214T130000
DTEND;TZID=America/New_York:20281214T150000
DTSTAMP:20260419T182120
CREATED:20260206T143545Z
LAST-MODIFIED:20260206T143545Z
UID:10001804-1860411600-1860418800@decaturlegacypark.com
SUMMARY:Sustainable Landscaping Volunteer Day
DESCRIPTION:Decatur Community Habitat is transforming the front yard of Isom Cottage into an ecosystem filled with native plants\, food crops\, and\, of course\, beauty! Join them and build skills that you can take home to your own yard. Everyone is welcome! \nRegister here.
URL:https://decaturlegacypark.com/event/sustainable-landscaping-volunteer-day/2028-12-14/
LOCATION:Legacy Park\, 500 S. Columbia Drive\, Decatur\, GA\, 30030\, United States
CATEGORIES:Volunteer Opportunities
ATTACH;FMTTYPE=image/jpeg:https://decaturlegacypark.com/wp-content/uploads/2022/09/Event-Master.jpg
END:VEVENT
BEGIN:VEVENT
DTSTART;TZID=America/New_York:20281221T130000
DTEND;TZID=America/New_York:20281221T150000
DTSTAMP:20260419T182120
CREATED:20260206T143545Z
LAST-MODIFIED:20260206T143545Z
UID:10001805-1861016400-1861023600@decaturlegacypark.com
SUMMARY:Sustainable Landscaping Volunteer Day
DESCRIPTION:Decatur Community Habitat is transforming the front yard of Isom Cottage into an ecosystem filled with native plants\, food crops\, and\, of course\, beauty! Join them and build skills that you can take home to your own yard. Everyone is welcome! \nRegister here.
URL:https://decaturlegacypark.com/event/sustainable-landscaping-volunteer-day/2028-12-21/
LOCATION:Legacy Park\, 500 S. Columbia Drive\, Decatur\, GA\, 30030\, United States
CATEGORIES:Volunteer Opportunities
ATTACH;FMTTYPE=image/jpeg:https://decaturlegacypark.com/wp-content/uploads/2022/09/Event-Master.jpg
END:VEVENT
BEGIN:VEVENT
DTSTART;TZID=America/New_York:20281228T130000
DTEND;TZID=America/New_York:20281228T150000
DTSTAMP:20260419T182120
CREATED:20260206T143545Z
LAST-MODIFIED:20260206T143545Z
UID:10001806-1861621200-1861628400@decaturlegacypark.com
SUMMARY:Sustainable Landscaping Volunteer Day
DESCRIPTION:Decatur Community Habitat is transforming the front yard of Isom Cottage into an ecosystem filled with native plants\, food crops\, and\, of course\, beauty! Join them and build skills that you can take home to your own yard. Everyone is welcome! \nRegister here.
URL:https://decaturlegacypark.com/event/sustainable-landscaping-volunteer-day/2028-12-28/
LOCATION:Legacy Park\, 500 S. Columbia Drive\, Decatur\, GA\, 30030\, United States
CATEGORIES:Volunteer Opportunities
ATTACH;FMTTYPE=image/jpeg:https://decaturlegacypark.com/wp-content/uploads/2022/09/Event-Master.jpg
END:VEVENT
BEGIN:VEVENT
DTSTART;TZID=America/New_York:20290104T130000
DTEND;TZID=America/New_York:20290104T150000
DTSTAMP:20260419T182120
CREATED:20260206T143545Z
LAST-MODIFIED:20260206T143545Z
UID:10001807-1862226000-1862233200@decaturlegacypark.com
SUMMARY:Sustainable Landscaping Volunteer Day
DESCRIPTION:Decatur Community Habitat is transforming the front yard of Isom Cottage into an ecosystem filled with native plants\, food crops\, and\, of course\, beauty! Join them and build skills that you can take home to your own yard. Everyone is welcome! \nRegister here.
URL:https://decaturlegacypark.com/event/sustainable-landscaping-volunteer-day/2029-01-04/
LOCATION:Legacy Park\, 500 S. Columbia Drive\, Decatur\, GA\, 30030\, United States
CATEGORIES:Volunteer Opportunities
ATTACH;FMTTYPE=image/jpeg:https://decaturlegacypark.com/wp-content/uploads/2022/09/Event-Master.jpg
END:VEVENT
BEGIN:VEVENT
DTSTART;TZID=America/New_York:20290111T130000
DTEND;TZID=America/New_York:20290111T150000
DTSTAMP:20260419T182120
CREATED:20260206T143545Z
LAST-MODIFIED:20260206T143545Z
UID:10001808-1862830800-1862838000@decaturlegacypark.com
SUMMARY:Sustainable Landscaping Volunteer Day
DESCRIPTION:Decatur Community Habitat is transforming the front yard of Isom Cottage into an ecosystem filled with native plants\, food crops\, and\, of course\, beauty! Join them and build skills that you can take home to your own yard. Everyone is welcome! \nRegister here.
URL:https://decaturlegacypark.com/event/sustainable-landscaping-volunteer-day/2029-01-11/
LOCATION:Legacy Park\, 500 S. Columbia Drive\, Decatur\, GA\, 30030\, United States
CATEGORIES:Volunteer Opportunities
ATTACH;FMTTYPE=image/jpeg:https://decaturlegacypark.com/wp-content/uploads/2022/09/Event-Master.jpg
END:VEVENT
BEGIN:VEVENT
DTSTART;TZID=America/New_York:20290118T130000
DTEND;TZID=America/New_York:20290118T150000
DTSTAMP:20260419T182120
CREATED:20260206T143545Z
LAST-MODIFIED:20260206T143545Z
UID:10001809-1863435600-1863442800@decaturlegacypark.com
SUMMARY:Sustainable Landscaping Volunteer Day
DESCRIPTION:Decatur Community Habitat is transforming the front yard of Isom Cottage into an ecosystem filled with native plants\, food crops\, and\, of course\, beauty! Join them and build skills that you can take home to your own yard. Everyone is welcome! \nRegister here.
URL:https://decaturlegacypark.com/event/sustainable-landscaping-volunteer-day/2029-01-18/
LOCATION:Legacy Park\, 500 S. Columbia Drive\, Decatur\, GA\, 30030\, United States
CATEGORIES:Volunteer Opportunities
ATTACH;FMTTYPE=image/jpeg:https://decaturlegacypark.com/wp-content/uploads/2022/09/Event-Master.jpg
END:VEVENT
BEGIN:VEVENT
DTSTART;TZID=America/New_York:20290125T130000
DTEND;TZID=America/New_York:20290125T150000
DTSTAMP:20260419T182120
CREATED:20260206T143545Z
LAST-MODIFIED:20260206T143545Z
UID:10001810-1864040400-1864047600@decaturlegacypark.com
SUMMARY:Sustainable Landscaping Volunteer Day
DESCRIPTION:Decatur Community Habitat is transforming the front yard of Isom Cottage into an ecosystem filled with native plants\, food crops\, and\, of course\, beauty! Join them and build skills that you can take home to your own yard. Everyone is welcome! \nRegister here.
URL:https://decaturlegacypark.com/event/sustainable-landscaping-volunteer-day/2029-01-25/
LOCATION:Legacy Park\, 500 S. Columbia Drive\, Decatur\, GA\, 30030\, United States
CATEGORIES:Volunteer Opportunities
ATTACH;FMTTYPE=image/jpeg:https://decaturlegacypark.com/wp-content/uploads/2022/09/Event-Master.jpg
END:VEVENT
BEGIN:VEVENT
DTSTART;TZID=America/New_York:20290201T130000
DTEND;TZID=America/New_York:20290201T150000
DTSTAMP:20260419T182120
CREATED:20260206T143545Z
LAST-MODIFIED:20260206T143545Z
UID:10001811-1864645200-1864652400@decaturlegacypark.com
SUMMARY:Sustainable Landscaping Volunteer Day
DESCRIPTION:Decatur Community Habitat is transforming the front yard of Isom Cottage into an ecosystem filled with native plants\, food crops\, and\, of course\, beauty! Join them and build skills that you can take home to your own yard. Everyone is welcome! \nRegister here.
URL:https://decaturlegacypark.com/event/sustainable-landscaping-volunteer-day/2029-02-01/
LOCATION:Legacy Park\, 500 S. Columbia Drive\, Decatur\, GA\, 30030\, United States
CATEGORIES:Volunteer Opportunities
ATTACH;FMTTYPE=image/jpeg:https://decaturlegacypark.com/wp-content/uploads/2022/09/Event-Master.jpg
END:VEVENT
BEGIN:VEVENT
DTSTART;TZID=America/New_York:20290208T130000
DTEND;TZID=America/New_York:20290208T150000
DTSTAMP:20260419T182120
CREATED:20260206T143545Z
LAST-MODIFIED:20260206T143545Z
UID:10001812-1865250000-1865257200@decaturlegacypark.com
SUMMARY:Sustainable Landscaping Volunteer Day
DESCRIPTION:Decatur Community Habitat is transforming the front yard of Isom Cottage into an ecosystem filled with native plants\, food crops\, and\, of course\, beauty! Join them and build skills that you can take home to your own yard. Everyone is welcome! \nRegister here.
URL:https://decaturlegacypark.com/event/sustainable-landscaping-volunteer-day/2029-02-08/
LOCATION:Legacy Park\, 500 S. Columbia Drive\, Decatur\, GA\, 30030\, United States
CATEGORIES:Volunteer Opportunities
ATTACH;FMTTYPE=image/jpeg:https://decaturlegacypark.com/wp-content/uploads/2022/09/Event-Master.jpg
END:VEVENT
BEGIN:VEVENT
DTSTART;TZID=America/New_York:20290215T130000
DTEND;TZID=America/New_York:20290215T150000
DTSTAMP:20260419T182120
CREATED:20260206T143545Z
LAST-MODIFIED:20260206T143545Z
UID:10001813-1865854800-1865862000@decaturlegacypark.com
SUMMARY:Sustainable Landscaping Volunteer Day
DESCRIPTION:Decatur Community Habitat is transforming the front yard of Isom Cottage into an ecosystem filled with native plants\, food crops\, and\, of course\, beauty! Join them and build skills that you can take home to your own yard. Everyone is welcome! \nRegister here.
URL:https://decaturlegacypark.com/event/sustainable-landscaping-volunteer-day/2029-02-15/
LOCATION:Legacy Park\, 500 S. Columbia Drive\, Decatur\, GA\, 30030\, United States
CATEGORIES:Volunteer Opportunities
ATTACH;FMTTYPE=image/jpeg:https://decaturlegacypark.com/wp-content/uploads/2022/09/Event-Master.jpg
END:VEVENT
BEGIN:VEVENT
DTSTART;TZID=America/New_York:20290222T130000
DTEND;TZID=America/New_York:20290222T150000
DTSTAMP:20260419T182120
CREATED:20260206T143545Z
LAST-MODIFIED:20260206T143545Z
UID:10001814-1866459600-1866466800@decaturlegacypark.com
SUMMARY:Sustainable Landscaping Volunteer Day
DESCRIPTION:Decatur Community Habitat is transforming the front yard of Isom Cottage into an ecosystem filled with native plants\, food crops\, and\, of course\, beauty! Join them and build skills that you can take home to your own yard. Everyone is welcome! \nRegister here.
URL:https://decaturlegacypark.com/event/sustainable-landscaping-volunteer-day/2029-02-22/
LOCATION:Legacy Park\, 500 S. Columbia Drive\, Decatur\, GA\, 30030\, United States
CATEGORIES:Volunteer Opportunities
ATTACH;FMTTYPE=image/jpeg:https://decaturlegacypark.com/wp-content/uploads/2022/09/Event-Master.jpg
END:VEVENT
BEGIN:VEVENT
DTSTART;TZID=America/New_York:20290301T130000
DTEND;TZID=America/New_York:20290301T150000
DTSTAMP:20260419T182120
CREATED:20260206T143545Z
LAST-MODIFIED:20260206T143545Z
UID:10001815-1867064400-1867071600@decaturlegacypark.com
SUMMARY:Sustainable Landscaping Volunteer Day
DESCRIPTION:Decatur Community Habitat is transforming the front yard of Isom Cottage into an ecosystem filled with native plants\, food crops\, and\, of course\, beauty! Join them and build skills that you can take home to your own yard. Everyone is welcome! \nRegister here.
URL:https://decaturlegacypark.com/event/sustainable-landscaping-volunteer-day/2029-03-01/
LOCATION:Legacy Park\, 500 S. Columbia Drive\, Decatur\, GA\, 30030\, United States
CATEGORIES:Volunteer Opportunities
ATTACH;FMTTYPE=image/jpeg:https://decaturlegacypark.com/wp-content/uploads/2022/09/Event-Master.jpg
END:VEVENT
END:VCALENDAR