BEGIN:VCALENDAR
VERSION:2.0
PRODID:-//Decatur Legacy Park - ECPv6.15.20//NONSGML v1.0//EN
CALSCALE:GREGORIAN
METHOD:PUBLISH
X-WR-CALNAME:Decatur Legacy Park
X-ORIGINAL-URL:https://decaturlegacypark.com
X-WR-CALDESC:Events for Decatur Legacy Park
REFRESH-INTERVAL;VALUE=DURATION:PT1H
X-Robots-Tag:noindex
X-PUBLISHED-TTL:PT1H
BEGIN:VTIMEZONE
TZID:America/New_York
BEGIN:DAYLIGHT
TZOFFSETFROM:-0500
TZOFFSETTO:-0400
TZNAME:EDT
DTSTART:20250309T070000
END:DAYLIGHT
BEGIN:STANDARD
TZOFFSETFROM:-0400
TZOFFSETTO:-0500
TZNAME:EST
DTSTART:20251102T060000
END:STANDARD
BEGIN:DAYLIGHT
TZOFFSETFROM:-0500
TZOFFSETTO:-0400
TZNAME:EDT
DTSTART:20260308T070000
END:DAYLIGHT
BEGIN:STANDARD
TZOFFSETFROM:-0400
TZOFFSETTO:-0500
TZNAME:EST
DTSTART:20261101T060000
END:STANDARD
BEGIN:DAYLIGHT
TZOFFSETFROM:-0500
TZOFFSETTO:-0400
TZNAME:EDT
DTSTART:20270314T070000
END:DAYLIGHT
BEGIN:STANDARD
TZOFFSETFROM:-0400
TZOFFSETTO:-0500
TZNAME:EST
DTSTART:20271107T060000
END:STANDARD
END:VTIMEZONE
BEGIN:VEVENT
DTSTART;TZID=America/New_York:20260425T110000
DTEND;TZID=America/New_York:20260425T123000
DTSTAMP:20260424T170230
CREATED:20250205T151630Z
LAST-MODIFIED:20250205T151630Z
UID:10001175-1777114800-1777120200@decaturlegacypark.com
SUMMARY:Tai Chi Flow
DESCRIPTION:Outside or in the Chapel:  The Flow class is all about learning how to “flow” the forms for a complete brain\, body and spirit healing experience.  The class only accepts practitioners with experience and they should have a regular practice. \nSee our Website for more information and to register:  taichi4lifecoop.org  \n 
URL:https://decaturlegacypark.com/event/tai-chi-flow/2026-04-25/
LOCATION:Legacy Park\, 500 S. Columbia Drive\, Decatur\, GA\, 30030\, United States
CATEGORIES:Classes and Demonstrations,Health and Wellness,Tenant Events
ATTACH;FMTTYPE=image/jpeg:https://decaturlegacypark.com/wp-content/uploads/2022/09/Event-Master.jpg
END:VEVENT
BEGIN:VEVENT
DTSTART;TZID=America/New_York:20260502T110000
DTEND;TZID=America/New_York:20260502T123000
DTSTAMP:20260424T170230
CREATED:20250205T151630Z
LAST-MODIFIED:20250205T151630Z
UID:10001176-1777719600-1777725000@decaturlegacypark.com
SUMMARY:Tai Chi Flow
DESCRIPTION:Outside or in the Chapel:  The Flow class is all about learning how to “flow” the forms for a complete brain\, body and spirit healing experience.  The class only accepts practitioners with experience and they should have a regular practice. \nSee our Website for more information and to register:  taichi4lifecoop.org  \n 
URL:https://decaturlegacypark.com/event/tai-chi-flow/2026-05-02/
LOCATION:Legacy Park\, 500 S. Columbia Drive\, Decatur\, GA\, 30030\, United States
CATEGORIES:Classes and Demonstrations,Health and Wellness,Tenant Events
ATTACH;FMTTYPE=image/jpeg:https://decaturlegacypark.com/wp-content/uploads/2022/09/Event-Master.jpg
END:VEVENT
BEGIN:VEVENT
DTSTART;TZID=America/New_York:20260509T110000
DTEND;TZID=America/New_York:20260509T123000
DTSTAMP:20260424T170230
CREATED:20250205T151630Z
LAST-MODIFIED:20250205T151630Z
UID:10001177-1778324400-1778329800@decaturlegacypark.com
SUMMARY:Tai Chi Flow
DESCRIPTION:Outside or in the Chapel:  The Flow class is all about learning how to “flow” the forms for a complete brain\, body and spirit healing experience.  The class only accepts practitioners with experience and they should have a regular practice. \nSee our Website for more information and to register:  taichi4lifecoop.org  \n 
URL:https://decaturlegacypark.com/event/tai-chi-flow/2026-05-09/
LOCATION:Legacy Park\, 500 S. Columbia Drive\, Decatur\, GA\, 30030\, United States
CATEGORIES:Classes and Demonstrations,Health and Wellness,Tenant Events
ATTACH;FMTTYPE=image/jpeg:https://decaturlegacypark.com/wp-content/uploads/2022/09/Event-Master.jpg
END:VEVENT
BEGIN:VEVENT
DTSTART;TZID=America/New_York:20260516T110000
DTEND;TZID=America/New_York:20260516T123000
DTSTAMP:20260424T170230
CREATED:20250205T151630Z
LAST-MODIFIED:20250205T151630Z
UID:10001178-1778929200-1778934600@decaturlegacypark.com
SUMMARY:Tai Chi Flow
DESCRIPTION:Outside or in the Chapel:  The Flow class is all about learning how to “flow” the forms for a complete brain\, body and spirit healing experience.  The class only accepts practitioners with experience and they should have a regular practice. \nSee our Website for more information and to register:  taichi4lifecoop.org  \n 
URL:https://decaturlegacypark.com/event/tai-chi-flow/2026-05-16/
LOCATION:Legacy Park\, 500 S. Columbia Drive\, Decatur\, GA\, 30030\, United States
CATEGORIES:Classes and Demonstrations,Health and Wellness,Tenant Events
ATTACH;FMTTYPE=image/jpeg:https://decaturlegacypark.com/wp-content/uploads/2022/09/Event-Master.jpg
END:VEVENT
BEGIN:VEVENT
DTSTART;TZID=America/New_York:20260523T110000
DTEND;TZID=America/New_York:20260523T123000
DTSTAMP:20260424T170230
CREATED:20250205T151630Z
LAST-MODIFIED:20250205T151630Z
UID:10001179-1779534000-1779539400@decaturlegacypark.com
SUMMARY:Tai Chi Flow
DESCRIPTION:Outside or in the Chapel:  The Flow class is all about learning how to “flow” the forms for a complete brain\, body and spirit healing experience.  The class only accepts practitioners with experience and they should have a regular practice. \nSee our Website for more information and to register:  taichi4lifecoop.org  \n 
URL:https://decaturlegacypark.com/event/tai-chi-flow/2026-05-23/
LOCATION:Legacy Park\, 500 S. Columbia Drive\, Decatur\, GA\, 30030\, United States
CATEGORIES:Classes and Demonstrations,Health and Wellness,Tenant Events
ATTACH;FMTTYPE=image/jpeg:https://decaturlegacypark.com/wp-content/uploads/2022/09/Event-Master.jpg
END:VEVENT
BEGIN:VEVENT
DTSTART;TZID=America/New_York:20260530T110000
DTEND;TZID=America/New_York:20260530T123000
DTSTAMP:20260424T170230
CREATED:20250205T151630Z
LAST-MODIFIED:20250205T151630Z
UID:10001180-1780138800-1780144200@decaturlegacypark.com
SUMMARY:Tai Chi Flow
DESCRIPTION:Outside or in the Chapel:  The Flow class is all about learning how to “flow” the forms for a complete brain\, body and spirit healing experience.  The class only accepts practitioners with experience and they should have a regular practice. \nSee our Website for more information and to register:  taichi4lifecoop.org  \n 
URL:https://decaturlegacypark.com/event/tai-chi-flow/2026-05-30/
LOCATION:Legacy Park\, 500 S. Columbia Drive\, Decatur\, GA\, 30030\, United States
CATEGORIES:Classes and Demonstrations,Health and Wellness,Tenant Events
ATTACH;FMTTYPE=image/jpeg:https://decaturlegacypark.com/wp-content/uploads/2022/09/Event-Master.jpg
END:VEVENT
BEGIN:VEVENT
DTSTART;TZID=America/New_York:20260606T110000
DTEND;TZID=America/New_York:20260606T123000
DTSTAMP:20260424T170230
CREATED:20250205T151630Z
LAST-MODIFIED:20250205T151630Z
UID:10001181-1780743600-1780749000@decaturlegacypark.com
SUMMARY:Tai Chi Flow
DESCRIPTION:Outside or in the Chapel:  The Flow class is all about learning how to “flow” the forms for a complete brain\, body and spirit healing experience.  The class only accepts practitioners with experience and they should have a regular practice. \nSee our Website for more information and to register:  taichi4lifecoop.org  \n 
URL:https://decaturlegacypark.com/event/tai-chi-flow/2026-06-06/
LOCATION:Legacy Park\, 500 S. Columbia Drive\, Decatur\, GA\, 30030\, United States
CATEGORIES:Classes and Demonstrations,Health and Wellness,Tenant Events
ATTACH;FMTTYPE=image/jpeg:https://decaturlegacypark.com/wp-content/uploads/2022/09/Event-Master.jpg
END:VEVENT
BEGIN:VEVENT
DTSTART;TZID=America/New_York:20260613T110000
DTEND;TZID=America/New_York:20260613T123000
DTSTAMP:20260424T170230
CREATED:20250205T151630Z
LAST-MODIFIED:20250205T151630Z
UID:10001182-1781348400-1781353800@decaturlegacypark.com
SUMMARY:Tai Chi Flow
DESCRIPTION:Outside or in the Chapel:  The Flow class is all about learning how to “flow” the forms for a complete brain\, body and spirit healing experience.  The class only accepts practitioners with experience and they should have a regular practice. \nSee our Website for more information and to register:  taichi4lifecoop.org  \n 
URL:https://decaturlegacypark.com/event/tai-chi-flow/2026-06-13/
LOCATION:Legacy Park\, 500 S. Columbia Drive\, Decatur\, GA\, 30030\, United States
CATEGORIES:Classes and Demonstrations,Health and Wellness,Tenant Events
ATTACH;FMTTYPE=image/jpeg:https://decaturlegacypark.com/wp-content/uploads/2022/09/Event-Master.jpg
END:VEVENT
BEGIN:VEVENT
DTSTART;TZID=America/New_York:20260620T110000
DTEND;TZID=America/New_York:20260620T123000
DTSTAMP:20260424T170230
CREATED:20250205T151630Z
LAST-MODIFIED:20250205T151630Z
UID:10001183-1781953200-1781958600@decaturlegacypark.com
SUMMARY:Tai Chi Flow
DESCRIPTION:Outside or in the Chapel:  The Flow class is all about learning how to “flow” the forms for a complete brain\, body and spirit healing experience.  The class only accepts practitioners with experience and they should have a regular practice. \nSee our Website for more information and to register:  taichi4lifecoop.org  \n 
URL:https://decaturlegacypark.com/event/tai-chi-flow/2026-06-20/
LOCATION:Legacy Park\, 500 S. Columbia Drive\, Decatur\, GA\, 30030\, United States
CATEGORIES:Classes and Demonstrations,Health and Wellness,Tenant Events
ATTACH;FMTTYPE=image/jpeg:https://decaturlegacypark.com/wp-content/uploads/2022/09/Event-Master.jpg
END:VEVENT
BEGIN:VEVENT
DTSTART;TZID=America/New_York:20260627T110000
DTEND;TZID=America/New_York:20260627T123000
DTSTAMP:20260424T170230
CREATED:20250205T151630Z
LAST-MODIFIED:20250205T151630Z
UID:10001184-1782558000-1782563400@decaturlegacypark.com
SUMMARY:Tai Chi Flow
DESCRIPTION:Outside or in the Chapel:  The Flow class is all about learning how to “flow” the forms for a complete brain\, body and spirit healing experience.  The class only accepts practitioners with experience and they should have a regular practice. \nSee our Website for more information and to register:  taichi4lifecoop.org  \n 
URL:https://decaturlegacypark.com/event/tai-chi-flow/2026-06-27/
LOCATION:Legacy Park\, 500 S. Columbia Drive\, Decatur\, GA\, 30030\, United States
CATEGORIES:Classes and Demonstrations,Health and Wellness,Tenant Events
ATTACH;FMTTYPE=image/jpeg:https://decaturlegacypark.com/wp-content/uploads/2022/09/Event-Master.jpg
END:VEVENT
BEGIN:VEVENT
DTSTART;TZID=America/New_York:20260704T110000
DTEND;TZID=America/New_York:20260704T123000
DTSTAMP:20260424T170230
CREATED:20250205T151630Z
LAST-MODIFIED:20250205T151630Z
UID:10001185-1783162800-1783168200@decaturlegacypark.com
SUMMARY:Tai Chi Flow
DESCRIPTION:Outside or in the Chapel:  The Flow class is all about learning how to “flow” the forms for a complete brain\, body and spirit healing experience.  The class only accepts practitioners with experience and they should have a regular practice. \nSee our Website for more information and to register:  taichi4lifecoop.org  \n 
URL:https://decaturlegacypark.com/event/tai-chi-flow/2026-07-04/
LOCATION:Legacy Park\, 500 S. Columbia Drive\, Decatur\, GA\, 30030\, United States
CATEGORIES:Classes and Demonstrations,Health and Wellness,Tenant Events
ATTACH;FMTTYPE=image/jpeg:https://decaturlegacypark.com/wp-content/uploads/2022/09/Event-Master.jpg
END:VEVENT
BEGIN:VEVENT
DTSTART;TZID=America/New_York:20260711T110000
DTEND;TZID=America/New_York:20260711T123000
DTSTAMP:20260424T170230
CREATED:20250205T151630Z
LAST-MODIFIED:20250205T151630Z
UID:10001186-1783767600-1783773000@decaturlegacypark.com
SUMMARY:Tai Chi Flow
DESCRIPTION:Outside or in the Chapel:  The Flow class is all about learning how to “flow” the forms for a complete brain\, body and spirit healing experience.  The class only accepts practitioners with experience and they should have a regular practice. \nSee our Website for more information and to register:  taichi4lifecoop.org  \n 
URL:https://decaturlegacypark.com/event/tai-chi-flow/2026-07-11/
LOCATION:Legacy Park\, 500 S. Columbia Drive\, Decatur\, GA\, 30030\, United States
CATEGORIES:Classes and Demonstrations,Health and Wellness,Tenant Events
ATTACH;FMTTYPE=image/jpeg:https://decaturlegacypark.com/wp-content/uploads/2022/09/Event-Master.jpg
END:VEVENT
BEGIN:VEVENT
DTSTART;TZID=America/New_York:20260718T110000
DTEND;TZID=America/New_York:20260718T123000
DTSTAMP:20260424T170230
CREATED:20250205T151630Z
LAST-MODIFIED:20250205T151630Z
UID:10001187-1784372400-1784377800@decaturlegacypark.com
SUMMARY:Tai Chi Flow
DESCRIPTION:Outside or in the Chapel:  The Flow class is all about learning how to “flow” the forms for a complete brain\, body and spirit healing experience.  The class only accepts practitioners with experience and they should have a regular practice. \nSee our Website for more information and to register:  taichi4lifecoop.org  \n 
URL:https://decaturlegacypark.com/event/tai-chi-flow/2026-07-18/
LOCATION:Legacy Park\, 500 S. Columbia Drive\, Decatur\, GA\, 30030\, United States
CATEGORIES:Classes and Demonstrations,Health and Wellness,Tenant Events
ATTACH;FMTTYPE=image/jpeg:https://decaturlegacypark.com/wp-content/uploads/2022/09/Event-Master.jpg
END:VEVENT
BEGIN:VEVENT
DTSTART;TZID=America/New_York:20260725T110000
DTEND;TZID=America/New_York:20260725T123000
DTSTAMP:20260424T170230
CREATED:20250205T151630Z
LAST-MODIFIED:20250205T151630Z
UID:10001188-1784977200-1784982600@decaturlegacypark.com
SUMMARY:Tai Chi Flow
DESCRIPTION:Outside or in the Chapel:  The Flow class is all about learning how to “flow” the forms for a complete brain\, body and spirit healing experience.  The class only accepts practitioners with experience and they should have a regular practice. \nSee our Website for more information and to register:  taichi4lifecoop.org  \n 
URL:https://decaturlegacypark.com/event/tai-chi-flow/2026-07-25/
LOCATION:Legacy Park\, 500 S. Columbia Drive\, Decatur\, GA\, 30030\, United States
CATEGORIES:Classes and Demonstrations,Health and Wellness,Tenant Events
ATTACH;FMTTYPE=image/jpeg:https://decaturlegacypark.com/wp-content/uploads/2022/09/Event-Master.jpg
END:VEVENT
BEGIN:VEVENT
DTSTART;TZID=America/New_York:20260801T110000
DTEND;TZID=America/New_York:20260801T123000
DTSTAMP:20260424T170230
CREATED:20250205T151630Z
LAST-MODIFIED:20250205T151630Z
UID:10001189-1785582000-1785587400@decaturlegacypark.com
SUMMARY:Tai Chi Flow
DESCRIPTION:Outside or in the Chapel:  The Flow class is all about learning how to “flow” the forms for a complete brain\, body and spirit healing experience.  The class only accepts practitioners with experience and they should have a regular practice. \nSee our Website for more information and to register:  taichi4lifecoop.org  \n 
URL:https://decaturlegacypark.com/event/tai-chi-flow/2026-08-01/
LOCATION:Legacy Park\, 500 S. Columbia Drive\, Decatur\, GA\, 30030\, United States
CATEGORIES:Classes and Demonstrations,Health and Wellness,Tenant Events
ATTACH;FMTTYPE=image/jpeg:https://decaturlegacypark.com/wp-content/uploads/2022/09/Event-Master.jpg
END:VEVENT
BEGIN:VEVENT
DTSTART;TZID=America/New_York:20260808T110000
DTEND;TZID=America/New_York:20260808T123000
DTSTAMP:20260424T170230
CREATED:20250205T151630Z
LAST-MODIFIED:20250205T151630Z
UID:10001190-1786186800-1786192200@decaturlegacypark.com
SUMMARY:Tai Chi Flow
DESCRIPTION:Outside or in the Chapel:  The Flow class is all about learning how to “flow” the forms for a complete brain\, body and spirit healing experience.  The class only accepts practitioners with experience and they should have a regular practice. \nSee our Website for more information and to register:  taichi4lifecoop.org  \n 
URL:https://decaturlegacypark.com/event/tai-chi-flow/2026-08-08/
LOCATION:Legacy Park\, 500 S. Columbia Drive\, Decatur\, GA\, 30030\, United States
CATEGORIES:Classes and Demonstrations,Health and Wellness,Tenant Events
ATTACH;FMTTYPE=image/jpeg:https://decaturlegacypark.com/wp-content/uploads/2022/09/Event-Master.jpg
END:VEVENT
BEGIN:VEVENT
DTSTART;TZID=America/New_York:20260815T110000
DTEND;TZID=America/New_York:20260815T123000
DTSTAMP:20260424T170230
CREATED:20250205T151630Z
LAST-MODIFIED:20250205T151630Z
UID:10001191-1786791600-1786797000@decaturlegacypark.com
SUMMARY:Tai Chi Flow
DESCRIPTION:Outside or in the Chapel:  The Flow class is all about learning how to “flow” the forms for a complete brain\, body and spirit healing experience.  The class only accepts practitioners with experience and they should have a regular practice. \nSee our Website for more information and to register:  taichi4lifecoop.org  \n 
URL:https://decaturlegacypark.com/event/tai-chi-flow/2026-08-15/
LOCATION:Legacy Park\, 500 S. Columbia Drive\, Decatur\, GA\, 30030\, United States
CATEGORIES:Classes and Demonstrations,Health and Wellness,Tenant Events
ATTACH;FMTTYPE=image/jpeg:https://decaturlegacypark.com/wp-content/uploads/2022/09/Event-Master.jpg
END:VEVENT
BEGIN:VEVENT
DTSTART;TZID=America/New_York:20260822T110000
DTEND;TZID=America/New_York:20260822T123000
DTSTAMP:20260424T170230
CREATED:20250205T151630Z
LAST-MODIFIED:20250205T151630Z
UID:10001192-1787396400-1787401800@decaturlegacypark.com
SUMMARY:Tai Chi Flow
DESCRIPTION:Outside or in the Chapel:  The Flow class is all about learning how to “flow” the forms for a complete brain\, body and spirit healing experience.  The class only accepts practitioners with experience and they should have a regular practice. \nSee our Website for more information and to register:  taichi4lifecoop.org  \n 
URL:https://decaturlegacypark.com/event/tai-chi-flow/2026-08-22/
LOCATION:Legacy Park\, 500 S. Columbia Drive\, Decatur\, GA\, 30030\, United States
CATEGORIES:Classes and Demonstrations,Health and Wellness,Tenant Events
ATTACH;FMTTYPE=image/jpeg:https://decaturlegacypark.com/wp-content/uploads/2022/09/Event-Master.jpg
END:VEVENT
BEGIN:VEVENT
DTSTART;TZID=America/New_York:20260829T110000
DTEND;TZID=America/New_York:20260829T123000
DTSTAMP:20260424T170230
CREATED:20250205T151630Z
LAST-MODIFIED:20250205T151630Z
UID:10001193-1788001200-1788006600@decaturlegacypark.com
SUMMARY:Tai Chi Flow
DESCRIPTION:Outside or in the Chapel:  The Flow class is all about learning how to “flow” the forms for a complete brain\, body and spirit healing experience.  The class only accepts practitioners with experience and they should have a regular practice. \nSee our Website for more information and to register:  taichi4lifecoop.org  \n 
URL:https://decaturlegacypark.com/event/tai-chi-flow/2026-08-29/
LOCATION:Legacy Park\, 500 S. Columbia Drive\, Decatur\, GA\, 30030\, United States
CATEGORIES:Classes and Demonstrations,Health and Wellness,Tenant Events
ATTACH;FMTTYPE=image/jpeg:https://decaturlegacypark.com/wp-content/uploads/2022/09/Event-Master.jpg
END:VEVENT
BEGIN:VEVENT
DTSTART;TZID=America/New_York:20260905T110000
DTEND;TZID=America/New_York:20260905T123000
DTSTAMP:20260424T170230
CREATED:20250205T151630Z
LAST-MODIFIED:20250205T151630Z
UID:10001194-1788606000-1788611400@decaturlegacypark.com
SUMMARY:Tai Chi Flow
DESCRIPTION:Outside or in the Chapel:  The Flow class is all about learning how to “flow” the forms for a complete brain\, body and spirit healing experience.  The class only accepts practitioners with experience and they should have a regular practice. \nSee our Website for more information and to register:  taichi4lifecoop.org  \n 
URL:https://decaturlegacypark.com/event/tai-chi-flow/2026-09-05/
LOCATION:Legacy Park\, 500 S. Columbia Drive\, Decatur\, GA\, 30030\, United States
CATEGORIES:Classes and Demonstrations,Health and Wellness,Tenant Events
ATTACH;FMTTYPE=image/jpeg:https://decaturlegacypark.com/wp-content/uploads/2022/09/Event-Master.jpg
END:VEVENT
BEGIN:VEVENT
DTSTART;TZID=America/New_York:20260912T110000
DTEND;TZID=America/New_York:20260912T123000
DTSTAMP:20260424T170230
CREATED:20250205T151630Z
LAST-MODIFIED:20250205T151630Z
UID:10001195-1789210800-1789216200@decaturlegacypark.com
SUMMARY:Tai Chi Flow
DESCRIPTION:Outside or in the Chapel:  The Flow class is all about learning how to “flow” the forms for a complete brain\, body and spirit healing experience.  The class only accepts practitioners with experience and they should have a regular practice. \nSee our Website for more information and to register:  taichi4lifecoop.org  \n 
URL:https://decaturlegacypark.com/event/tai-chi-flow/2026-09-12/
LOCATION:Legacy Park\, 500 S. Columbia Drive\, Decatur\, GA\, 30030\, United States
CATEGORIES:Classes and Demonstrations,Health and Wellness,Tenant Events
ATTACH;FMTTYPE=image/jpeg:https://decaturlegacypark.com/wp-content/uploads/2022/09/Event-Master.jpg
END:VEVENT
BEGIN:VEVENT
DTSTART;TZID=America/New_York:20260919T110000
DTEND;TZID=America/New_York:20260919T123000
DTSTAMP:20260424T170230
CREATED:20250205T151630Z
LAST-MODIFIED:20250205T151630Z
UID:10001196-1789815600-1789821000@decaturlegacypark.com
SUMMARY:Tai Chi Flow
DESCRIPTION:Outside or in the Chapel:  The Flow class is all about learning how to “flow” the forms for a complete brain\, body and spirit healing experience.  The class only accepts practitioners with experience and they should have a regular practice. \nSee our Website for more information and to register:  taichi4lifecoop.org  \n 
URL:https://decaturlegacypark.com/event/tai-chi-flow/2026-09-19/
LOCATION:Legacy Park\, 500 S. Columbia Drive\, Decatur\, GA\, 30030\, United States
CATEGORIES:Classes and Demonstrations,Health and Wellness,Tenant Events
ATTACH;FMTTYPE=image/jpeg:https://decaturlegacypark.com/wp-content/uploads/2022/09/Event-Master.jpg
END:VEVENT
BEGIN:VEVENT
DTSTART;TZID=America/New_York:20260926T110000
DTEND;TZID=America/New_York:20260926T123000
DTSTAMP:20260424T170230
CREATED:20250205T151630Z
LAST-MODIFIED:20250205T151630Z
UID:10001197-1790420400-1790425800@decaturlegacypark.com
SUMMARY:Tai Chi Flow
DESCRIPTION:Outside or in the Chapel:  The Flow class is all about learning how to “flow” the forms for a complete brain\, body and spirit healing experience.  The class only accepts practitioners with experience and they should have a regular practice. \nSee our Website for more information and to register:  taichi4lifecoop.org  \n 
URL:https://decaturlegacypark.com/event/tai-chi-flow/2026-09-26/
LOCATION:Legacy Park\, 500 S. Columbia Drive\, Decatur\, GA\, 30030\, United States
CATEGORIES:Classes and Demonstrations,Health and Wellness,Tenant Events
ATTACH;FMTTYPE=image/jpeg:https://decaturlegacypark.com/wp-content/uploads/2022/09/Event-Master.jpg
END:VEVENT
BEGIN:VEVENT
DTSTART;TZID=America/New_York:20261003T110000
DTEND;TZID=America/New_York:20261003T123000
DTSTAMP:20260424T170230
CREATED:20250205T151630Z
LAST-MODIFIED:20250205T151630Z
UID:10001198-1791025200-1791030600@decaturlegacypark.com
SUMMARY:Tai Chi Flow
DESCRIPTION:Outside or in the Chapel:  The Flow class is all about learning how to “flow” the forms for a complete brain\, body and spirit healing experience.  The class only accepts practitioners with experience and they should have a regular practice. \nSee our Website for more information and to register:  taichi4lifecoop.org  \n 
URL:https://decaturlegacypark.com/event/tai-chi-flow/2026-10-03/
LOCATION:Legacy Park\, 500 S. Columbia Drive\, Decatur\, GA\, 30030\, United States
CATEGORIES:Classes and Demonstrations,Health and Wellness,Tenant Events
ATTACH;FMTTYPE=image/jpeg:https://decaturlegacypark.com/wp-content/uploads/2022/09/Event-Master.jpg
END:VEVENT
BEGIN:VEVENT
DTSTART;TZID=America/New_York:20261010T110000
DTEND;TZID=America/New_York:20261010T123000
DTSTAMP:20260424T170230
CREATED:20250205T151630Z
LAST-MODIFIED:20250205T151630Z
UID:10001199-1791630000-1791635400@decaturlegacypark.com
SUMMARY:Tai Chi Flow
DESCRIPTION:Outside or in the Chapel:  The Flow class is all about learning how to “flow” the forms for a complete brain\, body and spirit healing experience.  The class only accepts practitioners with experience and they should have a regular practice. \nSee our Website for more information and to register:  taichi4lifecoop.org  \n 
URL:https://decaturlegacypark.com/event/tai-chi-flow/2026-10-10/
LOCATION:Legacy Park\, 500 S. Columbia Drive\, Decatur\, GA\, 30030\, United States
CATEGORIES:Classes and Demonstrations,Health and Wellness,Tenant Events
ATTACH;FMTTYPE=image/jpeg:https://decaturlegacypark.com/wp-content/uploads/2022/09/Event-Master.jpg
END:VEVENT
BEGIN:VEVENT
DTSTART;TZID=America/New_York:20261017T110000
DTEND;TZID=America/New_York:20261017T123000
DTSTAMP:20260424T170230
CREATED:20250205T151630Z
LAST-MODIFIED:20250205T151630Z
UID:10001200-1792234800-1792240200@decaturlegacypark.com
SUMMARY:Tai Chi Flow
DESCRIPTION:Outside or in the Chapel:  The Flow class is all about learning how to “flow” the forms for a complete brain\, body and spirit healing experience.  The class only accepts practitioners with experience and they should have a regular practice. \nSee our Website for more information and to register:  taichi4lifecoop.org  \n 
URL:https://decaturlegacypark.com/event/tai-chi-flow/2026-10-17/
LOCATION:Legacy Park\, 500 S. Columbia Drive\, Decatur\, GA\, 30030\, United States
CATEGORIES:Classes and Demonstrations,Health and Wellness,Tenant Events
ATTACH;FMTTYPE=image/jpeg:https://decaturlegacypark.com/wp-content/uploads/2022/09/Event-Master.jpg
END:VEVENT
BEGIN:VEVENT
DTSTART;TZID=America/New_York:20261024T110000
DTEND;TZID=America/New_York:20261024T123000
DTSTAMP:20260424T170230
CREATED:20250205T151630Z
LAST-MODIFIED:20250205T151630Z
UID:10001201-1792839600-1792845000@decaturlegacypark.com
SUMMARY:Tai Chi Flow
DESCRIPTION:Outside or in the Chapel:  The Flow class is all about learning how to “flow” the forms for a complete brain\, body and spirit healing experience.  The class only accepts practitioners with experience and they should have a regular practice. \nSee our Website for more information and to register:  taichi4lifecoop.org  \n 
URL:https://decaturlegacypark.com/event/tai-chi-flow/2026-10-24/
LOCATION:Legacy Park\, 500 S. Columbia Drive\, Decatur\, GA\, 30030\, United States
CATEGORIES:Classes and Demonstrations,Health and Wellness,Tenant Events
ATTACH;FMTTYPE=image/jpeg:https://decaturlegacypark.com/wp-content/uploads/2022/09/Event-Master.jpg
END:VEVENT
BEGIN:VEVENT
DTSTART;TZID=America/New_York:20261031T110000
DTEND;TZID=America/New_York:20261031T123000
DTSTAMP:20260424T170230
CREATED:20250205T151630Z
LAST-MODIFIED:20250205T151630Z
UID:10001202-1793444400-1793449800@decaturlegacypark.com
SUMMARY:Tai Chi Flow
DESCRIPTION:Outside or in the Chapel:  The Flow class is all about learning how to “flow” the forms for a complete brain\, body and spirit healing experience.  The class only accepts practitioners with experience and they should have a regular practice. \nSee our Website for more information and to register:  taichi4lifecoop.org  \n 
URL:https://decaturlegacypark.com/event/tai-chi-flow/2026-10-31/
LOCATION:Legacy Park\, 500 S. Columbia Drive\, Decatur\, GA\, 30030\, United States
CATEGORIES:Classes and Demonstrations,Health and Wellness,Tenant Events
ATTACH;FMTTYPE=image/jpeg:https://decaturlegacypark.com/wp-content/uploads/2022/09/Event-Master.jpg
END:VEVENT
BEGIN:VEVENT
DTSTART;TZID=America/New_York:20261107T110000
DTEND;TZID=America/New_York:20261107T123000
DTSTAMP:20260424T170230
CREATED:20250205T151630Z
LAST-MODIFIED:20250205T151630Z
UID:10001203-1794049200-1794054600@decaturlegacypark.com
SUMMARY:Tai Chi Flow
DESCRIPTION:Outside or in the Chapel:  The Flow class is all about learning how to “flow” the forms for a complete brain\, body and spirit healing experience.  The class only accepts practitioners with experience and they should have a regular practice. \nSee our Website for more information and to register:  taichi4lifecoop.org  \n 
URL:https://decaturlegacypark.com/event/tai-chi-flow/2026-11-07/
LOCATION:Legacy Park\, 500 S. Columbia Drive\, Decatur\, GA\, 30030\, United States
CATEGORIES:Classes and Demonstrations,Health and Wellness,Tenant Events
ATTACH;FMTTYPE=image/jpeg:https://decaturlegacypark.com/wp-content/uploads/2022/09/Event-Master.jpg
END:VEVENT
BEGIN:VEVENT
DTSTART;TZID=America/New_York:20261114T110000
DTEND;TZID=America/New_York:20261114T123000
DTSTAMP:20260424T170230
CREATED:20250205T151630Z
LAST-MODIFIED:20250205T151630Z
UID:10001204-1794654000-1794659400@decaturlegacypark.com
SUMMARY:Tai Chi Flow
DESCRIPTION:Outside or in the Chapel:  The Flow class is all about learning how to “flow” the forms for a complete brain\, body and spirit healing experience.  The class only accepts practitioners with experience and they should have a regular practice. \nSee our Website for more information and to register:  taichi4lifecoop.org  \n 
URL:https://decaturlegacypark.com/event/tai-chi-flow/2026-11-14/
LOCATION:Legacy Park\, 500 S. Columbia Drive\, Decatur\, GA\, 30030\, United States
CATEGORIES:Classes and Demonstrations,Health and Wellness,Tenant Events
ATTACH;FMTTYPE=image/jpeg:https://decaturlegacypark.com/wp-content/uploads/2022/09/Event-Master.jpg
END:VEVENT
END:VCALENDAR